Workbook
Name Camera_Pic: INDEX(Images!$B:$B,MATCH(VLOOKUP('WAVE Channel Calculator'!#REF!,Accessories!$A:$B,2,0),Images!$A:$A,0))
Name Camera_Pic: INDEX(Images!$B:$B,MATCH(VLOOKUP('Mount Selection'!$C$3,Accessories!$A:$B,2,0),Images!$A:$A,0))
Name Extension_pipes: #REF!
Name Extension_pipes: #REF!
Name Maps: INDEX(Maps!$C:$C,MATCH(Maps!$D$1, Maps!$B:$B,0))
Name MAPS2: INDEX(Maps!$L:$L,MATCH(Maps!$E$1, Maps!$K:$K,0))
Name None: #REF!
Name None: #REF!
Name product_pic1: INDEX(Images!$B:$B,MATCH(VLOOKUP('WAVE Channel Calculator'!#REF!,Accessories!$A:$B,2,0),Images!$A:$A,0))
Name product_pic1: INDEX(Images!$B:$B,MATCH(VLOOKUP('Mount Selection'!$C$3,Accessories!$A:$B,2,0),Images!$A:$A,0))
Name product_pic2: INDEX([1]Images!$B:$B,MATCH(VLOOKUP('[1]Mount Selection'!$C$3,[1]Accessories!$A:$B,2,0),[1]Images!$A:$A,0))
Name Telescopic_Pendant: #REF!
Name Telescopic_Pendant: #REF!
Name WhiteAccessory: INDIRECT('WAVE Channel Calculator'!$F$18)
Name WhiteAccessory: INDIRECT('Mount Selection'!#REF!)

Sheet Release Notes
C3: Release Date : 3/1/2026
C6: Mount Selection Tool
C8: Version : 26.3.01
C10: New in this release:
C12: New in this release:
C13: 1 | D13: XNB-A8004 | I13: 21
C14: 2 | D14: XNB-A9004 | I14: 22
C15: 3 | D15: XND-A8085RV | I15: 23
C16: 4 | D16: XND-A9085RV | I16: 24
C17: 5 | D17: XNV-A8085R | I17: 25
C18: 6 | D18: XNV-A9085R | I18: 26
C19: 7 | I19: 27
C20: 8 | I20: 28
C21: 9 | I21: 29
C22: 10 | I22: 30
C23: 11 | I23: 31
C24: 12 | I24: 32
C25: 13 | I25: 33
C26: 14 | I26: 34
C27: 15 | I27: 35
C28: 16 | I28: 36
C29: 17 | I29: 37
C30: 18 | I30: 38
... C32: 20 | I32: 40
C41: Fixes:
C42: 1
C43: 2
C44: 3

Sheet Mount Selection
C1: Camera
D2: =_xlfn.IFNA(VLOOKUP(C3,Accessories!1:1048576,44,FALSE), "")
B3: Choose a product -----> | C3: XNB-A8004
E7: The Below is For Direct Camera Mounting ONLY:
E8: Compatible Backplate Adapter: | F8: =VLOOKUP(C3,Accessories!A:C,3,0) -> None
E9: =IF($C$28="","","Gangbox Compatibility with no adaptor:") -> Gangbox Compatibility with no adaptor: | F9: =VLOOKUP($C$3,Accessories!$A$1:$AP$711,40,0) -> -
E10: =IF($C$28="","","Gangbox Compatibility with adapter:") -> Gangbox Compatibility with adapter: | F10: =VLOOKUP($C$3,Accessories!$A$1:$AP$711,42,0) -> None
E11: Please note that Gang box compatibility doesn't Guarantee that the back plate or camera will cover the whole box,
E12: As the corner of the electrical box in some cases might be showing
E16: Model # | F16: Weight Limit
E17: SBP-250WMW | F17: 44lbs
E18: SBP-400WMW | F18: 44lbs
E19: SBP-050NBW | F19: 11lbs
E20: SBP-050PMW | F20: 33lbs
E21: SBP-150NBW | F21: 33lbs
E22: SBP-150PMW | F22: 88lbs
B26: The Below is For Direct Camera Mounting ONLY:
B27: Compatible Backplate Adapter: | C27: =VLOOKUP(C3,Accessories!A:C,3,0) -> None
B28: =IF($C$28="","","Gangbox Compatibility with no adaptor:") -> Gangbox Compatibility with no adaptor: | C28: =VLOOKUP($C$3,Accessories!$A$1:$AP$711,40,0) -> -
B29: =IF($C$28="","","Gangbox Compatibility with adapter:") -> Gangbox Compatibility with adapter: | C29: =VLOOKUP($C$3,Accessories!$A$1:$AP$711,42,0) -> None
B30: Please note that Gang box compatibility doesn't Guarantee that the back plate or camera will cover the whole box,
B31: As the corner of the electrical box in some cases might be showing

Sheet WAVE Channel Calculator
C1: Input camera quantity below:
B2: WAVE Channel Calculator | C2: 300
B4: SKU | C4: QTY needed
B5: WAVE-PRO-48 | C5: =FLOOR(C2/48,1) -> 6
B6: WAVE-PRO-24 | C6: =FLOOR(MOD(C2,48)/24,1) -> 0
B7: WAVE-PRO-16 | C7: =FLOOR(MOD(MOD(C2,48),24)/16,1) -> 0
B8: WAVE-PRO-08 | C8: =FLOOR(MOD(MOD(MOD(C2,48),24),16)/8,1) -> 1
B9: WAVE-PRO-05 | C9: =FLOOR(MOD(MOD(MOD(MOD(C2,48),24),16),8)/5,1) -> 0
B10: WAVE-PRO-04 | C10: =FLOOR(MOD(MOD(MOD(MOD(MOD(C2,48),24),16),8),5)/4,1) -> 1
B11: WAVE-PRO-01 | C11: =FLOOR(MOD(MOD(MOD(MOD(MOD(MOD(C2,48),24),16),8),5),4)/1,1) -> 0

Sheet Accessories
A1: Camera | B1: Group(1) | C1: Backplateadaptor / Protection(2) | D1: BACKBOX(3) | E1: Housing0(4) | F1: Housing1(5) | G1: Housing2(6) | H1: Housing3(7) | I1: Housing4(8) | J1: SmokedDomeCover(9) | K1: Mount-Hanging(10) | L1: Mount-Tilt(11) | M1: WallMount1(12) | N1: WallMount2(13) | O1: WallMount6(14) | P1: WallMount2(15) | Q1: WallMount6(16) | R1: Mount-Ceiling1(17) | S1: Mount-Ceiling2(18) | T1: Mount-Ceiling2(18) | U1: Mount-Parapet (19) | V1: Mount-Pole(18) | W1: Mount-WallMountBase(19) | X1: INSTALLATIONBOX(20) | Y1: Mount-Corner(21) | Z1: Mount-Fixed(22) | AA1: LensOptions1(23) | AB1: LensOptions2(24) | AC1: LensOptions3(25) | AD1: LensOptions4(26) | AE1: LensOptions5(27) | AF1: LensOptions6(28) | AG1: LensOptions7(29) | AH1: LensOptions8(30) | AI1: LensOptions9(31) | AJ1: WeatherCap(32) | AK1: Fiber(33) | AL1: Washer(34) | AM1: Black Housing (35) | AN1: compatibility, direct mount | AO1: Gangplate adapter | AP1: compatibility, with gangplate adapter | AQ1: IR option | AR1: Camera EOL Check
A2: ACE-6020R | B2: A8 | C2: None | AN2: None | AO2: None | AP2: None | AR2: =VLOOKUP(A:A,EOL!A:B,2,FALSE) -> #N/A
A3: ACE-8020R | B3: A8 | C3: None | AN3: None | AO3: None | AP3: None | AR3: =VLOOKUP(A:A,EOL!A:B,2,FALSE) -> #N/A
A4: ACO-6020R | B4: A7 | C4: SBO-090GP (sold separately) | AN4: None | AO4: None | AP4: Single, Double, 4" Octagon | AR4: =VLOOKUP(A:A,EOL!A:B,2,FALSE) -> #N/A
A5: ACO-8020R | B5: A7 | C5: SBO-090GP (sold separately) | AN5: None | AO5: None | AP5: Single, Double, 4" Octagon | AR5: =VLOOKUP(A:A,EOL!A:B,2,FALSE) -> #N/A
A6: ACV-8080R | B6: A9 | C6: None | AN6: None | AO6: None | AP6: None | AR6: =VLOOKUP(A:A,EOL!A:B,2,FALSE) -> #N/A
A7: ACV-8081R | B7: A9 | C7: None | AN7: None | AO7: None | AP7: None | AR7: =VLOOKUP(A:A,EOL!A:B,2,FALSE) -> #N/A
A8: ANE-L6012R | B8: A3 | C8: SBD-110GP1 (sold separately) | AN8: None | AO8: None | AP8: Single, Double, 4" Octagon | AR8: =VLOOKUP(A:A,EOL!A:B,2,FALSE) -> #N/A
A9: ANE-L7012L | B9: FEW3 | C9: SBD-110GP1 (sold separately) | D9: SBV-140BW | E9: None | F9: None | G9: None | H9: None | I9: None | J9: None | K9: None | L9: SBV-140TMW | M9: SBP-125WMW | N9: None | O9: None | P9: None | Q9: None | R9: None | S9: None | T9: None | U9: None | V9: SBD-140PMW | W9: None | X9: None | Y9: None | Z9: None | AA9: None | AB9: None | AC9: None | AD9: None | AE9: None | AF9: None | AG9: None | AH9: None | AI9: None | AJ9: None | AK9: None | AL9: None | AM9: None | AN9: - | AO9: None | AP9: Single, Double, 4" Octagon | AQ9: None | AR9: =VLOOKUP(A:A,EOL!A:B,2,FALSE) -> #N/A
A10: ANE-L7012R | B10: A3 | C10: SBD-110GP1 (sold separately) | AN10: None | AO10: None | AP10: Single, Double, 4" Octagon | AR10: =VLOOKUP(A:A,EOL!A:B,2,FALSE) -> #N/A
A11: ANO-L6012R | B11: A2 | C11: SBO-090GP (sold separately) | AN11: None | AO11: None | AP11: None | AR11: =VLOOKUP(A:A,EOL!A:B,2,FALSE) -> #N/A
A12: ANO-L6022R | B12: A2 | C12: SBO-090GP (sold separately) | AN12: None | AO12: None | AP12: None | AR12: =VLOOKUP(A:A,EOL!A:B,2,FALSE) -> #N/A
A13: ANO-L6082R | B13: A2 | C13: SBO-090GP (sold separately) | AN13: None | AO13: None | AP13: None | AR13: =VLOOKUP(A:A,EOL!A:B,2,FALSE) -> #N/A
A14: ANO-L7012R | B14: A2 | C14: SBO-090GP (sold separately) | AN14: None | AO14: None | AP14: Single, Double, 4" Octagon | AR14: =VLOOKUP(A:A,EOL!A:B,2,FALSE) -> #N/A
A15: ANO-L7022R | B15: A2 | C15: SBO-090GP (sold separately) | AN15: None | AO15: None | AP15: Single, Double, 4" Octagon | AR15: =VLOOKUP(A:A,EOL!A:B,2,FALSE) -> #N/A
A16: ANO-L7082R | B16: A2 | C16: SBO-090GP (sold separately) | AN16: None | AO16: None | AP16: Single, Double, 4" Octagon | AR16: =VLOOKUP(A:A,EOL!A:B,2,FALSE) -> #N/A
A17: ANV-L6012R | B17: A0 | C17: Included | AN17: None | AO17: None | AP17: Single, Double, 4" Octagon | AR17: =VLOOKUP(A:A,EOL!A:B,2,FALSE) -> #N/A
A18: ANV-L6023R | B18: A1 | C18: None | AN18: None | AO18: None | AP18: None | AR18: =VLOOKUP(A:A,EOL!A:B,2,FALSE) -> #N/A
A19: ANV-L6082R | B19: A6 | C19: Included | AN19: None | AO19: None | AP19: Single, Double, 4" Octagon | AR19: =VLOOKUP(A:A,EOL!A:B,2,FALSE) -> #N/A
A20: ANV-L7012R | B20: A4 | C20: Included | AN20: None | AO20: None | AP20: Single, Double, 4" Octagon | AR20: =VLOOKUP(A:A,EOL!A:B,2,FALSE) -> #N/A
A21: ANV-L7082R | B21: A6 | C21: Included | AN21: None | AO21: None | AP21: Single, Double, 4" Octagon | AR21: =VLOOKUP(A:A,EOL!A:B,2,FALSE) -> #N/A
A22: HCB-6000 | B22: BO21 | C22: None | D22: None | E22: None | F22: SHB-4300H1 | G22: None | H22: SHB-4200 | I22: SHB-4200H | J22: None | K22: None | L22: None | M22: STB-4150V | N22: None | O22: None | P22: None | Q22: None | R22: None | S22: None | T22: None | U22: None | V22: None | W22: None | X22: None | Y22: None | Z22: None | AA22: SLA-M2890DN | AB22: None | AC22: SLA-F-M226DN | AD22: SLA-F-M1550DN | AE22: None | AF22: None | AG22: None | AH22: None | AI22: None | AJ22: None | AK22: None | AL22: None | AM22: None | AN22: - | AO22: - | AP22: - | AQ22: None | AR22: =VLOOKUP(A:A,EOL!A:B,2,FALSE) -> #N/A
A23: HCB-6001 | B23: BO21 | C23: None | D23: None | E23: None | F23: SHB-4300H1 | G23: None | H23: SHB-4200 | I23: SHB-4200H | J23: None | K23: None | L23: None | M23: STB-4150V | N23: None | O23: None | P23: None | Q23: None | R23: None | S23: None | T23: None | U23: None | V23: None | W23: None | X23: None | Y23: None | Z23: None | AA23: SLA-M2890DN | AB23: None | AC23: SLA-F-M226DN | AD23: SLA-F-M1550DN | AE23: None | AF23: None | AG23: None | AH23: None | AI23: None | AJ23: None | AK23: None | AL23: None | AM23: None | AN23: - | AO23: - | AP23: - | AQ23: None | AR23: =VLOOKUP(A:A,EOL!A:B,2,FALSE) -> #N/A
A24: HCB-7000 | B24: BO21 | C24: None | D24: None | E24: None | F24: SHB-4300H1 | G24: None | H24: SHB-4200 | I24: SHB-4200H | J24: None | K24: None | L24: None | M24: STB-4150V | N24: None | O24: None | P24: None | Q24: None | R24: None | S24: None | T24: None | U24: None | V24: None | W24: None | X24: None | Y24: None | Z24: None | AA24: SLA-M2890DN | AB24: None | AC24: SLA-F-M226DN | AD24: SLA-F-M1550DN | AE24: None | AF24: None | AG24: None | AH24: None | AI24: None | AJ24: None | AK24: None | AL24: None | AM24: None | AN24: - | AO24: - | AP24: - | AQ24: None | AR24: =VLOOKUP(A:A,EOL!A:B,2,FALSE) -> <-Camera is EOL
A25: HCB-7000A | B25: BO21 | C25: None | D25: None | E25: None | F25: SHB-4300H1 | G25: None | H25: SHB-4200 | I25: SHB-4200H | J25: None | K25: None | L25: None | M25: STB-4150V | N25: None | AC25: SLA-F-M226DN | AD25: SLA-F-M1550DN | AE25: None | AF25: None | AG25: None | AH25: None | AI25: None | AJ25: None | AK25: None | AL25: None | AM25: None | AN25: - | AO25: - | AP25: - | AQ25: None | AR25: =VLOOKUP(A:A,EOL!A:B,2,FALSE) -> #N/A
A26: HCD-6010 | B26: D5-0 | C26: SBD-110GP (sold separately) | D26: None | E26: None | F26: None | G26: None | H26: None | I26: None | J26: SPB-IND12 | K26: SBP-300HM7 | L26: None | M26: SBP-120WM | N26: SBP-300WM1 | O26: SBP-300WM | P26: SBP-390WM1 | Q26: SBP-390WM2 | R26: SBP-300CM | S26: SBP-302CM /-12/-36 + SBP-302CMA/B/S Optional SBP-2CTW1 | T26: SBP-302-CMAS | U26: SBP-300LM | V26: SBP-300PM | W26: SBP-300B | X26: SBP-300NB | Y26: SBP-300KM | Z26: None | AA26: None | AB26: None | AC26: None | AD26: None | AE26: None | AF26: None | AG26: None | AH26: None | AI26: None | AJ26: None | AK26: None | AL26: None | AM26: SPG-IND12B | AN26: Double | AO26: SBD-110GP | AP26: Single, Double, 4" Octagon | AQ26: None | AR26: =VLOOKUP(A:A,EOL!A:B,2,FALSE) -> #N/A
A27: HCD-6020R | B27: D5-0 | C27: SBD-110GP (sold separately) | D27: None | E27: None | F27: None | G27: None | H27: None | I27: None | J27: SPB-IND12 | K27: SBP-300HM7 | L27: None | M27: SBP-120WM | N27: SBP-300WM1 | O27: SBP-300WM | P27: SBP-390WM1 | Q27: SBP-390WM2 | R27: SBP-300CM | S27: SBP-302CM /-12/-36 + SBP-302CMA/B/S Optional SBP-2CTW1 | T27: SBP-302-CMAS | U27: SBP-300LM | V27: SBP-300PM | W27: SBP-300B | X27: SBP-300NB | Y27: SBP-300KM | Z27: None | AA27: None | AB27: None | AC27: None | AD27: None | AE27: None | AF27: None | AG27: None | AH27: None | AI27: None | AJ27: None | AK27: None | AL27: None | AM27: SPG-IND12B | AN27: Double | AO27: SBD-110GP | AP27: Single, Double, 4" Octagon | AQ27: None | AR27: =VLOOKUP(A:A,EOL!A:B,2,FALSE) -> #N/A
A28: HCD-6070R | B28: D4-0 | C28: SBD-110GP1 (sold separately) | D28: None | E28: SHD-3000F2 | F28: None | G28: None | H28: None | I28: None | J28: SPB-IND6 | K28: SBP-122HM | L28: None | M28: SBP-120WM | N28: SBP-300WM1 | O28: SBP-300WM | P28: SBP-390WM1 | Q28: SBP-390WM2 | R28: SBP-300CM | S28: SBP-302CM /-12/-36 + SBP-302CMA/B/S Optional SBP-2CTW1 | T28: SBP-302-CMAS | U28: SBP-300LM | V28: SBP-300PM | W28: SBP-300B | X28: SBP-300NB | Y28: SBP-300KM | Z28: None | AA28: None | AB28: None | AC28: None | AD28: None | AE28: None | AF28: None | AG28: None | AH28: None | AI28: None | AJ28: None | AK28: None | AL28: None | AM28: None | AN28: Double | AO28: SBD-120GP | AP28: Single, Double, 4" Octagon | AQ28: None | AR28: =VLOOKUP(A:A,EOL!A:B,2,FALSE) -> #N/A
A29: HCD-6080R | B29: D4-0 | C29: SBD-110GP1 (sold separately) | D29: None | E29: SHD-3000F2 | F29: None | G29: None | H29: None | I29: None | J29: SPB-IND6 | K29: SBP-122HM | L29: None | M29: SBP-120WM | N29: SBP-300WM1 | O29: SBP-300WM | P29: SBP-390WM1 | Q29: SBP-390WM2 | R29: SBP-300CM | S29: SBP-302CM /-12/-36 + SBP-302CMA/B/S Optional SBP-2CTW1 | T29: SBP-302-CMAS | U29: SBP-300LM | V29: SBP-300PM | W29: SBP-300B | X29: SBP-300NB | Y29: SBP-300KM | Z29: None | AA29: None | AB29: None | AC29: None | AD29: None | AE29: None | AF29: None | AG29: None | AH29: None | AI29: None | AJ29: None | AK29: None | AL29: None | AM29: None | AN29: Double | AO29: SBD-120GP | AP29: Single, Double, 4" Octagon | AQ29: None | AR29: =VLOOKUP(A:A,EOL!A:B,2,FALSE) -> #N/A
A30: HCD-7010R | B30: D5 | C30: SBD-110GP (sold separately) | D30: None | E30: None | F30: None | G30: None | H30: None | I30: None | J30: SPB-IND12 | K30: SBP-300HM7 | L30: None | M30: SBP-120WM | N30: SBP-300WM1 | O30: SBP-300WM | P30: SBP-390WM1 | Q30: SBP-390WM2 | R30: SBP-300CM | S30: SBP-302CM /-12/-36 + SBP-302CMA/B/S Optional SBP-2CTW1 | T30: SBP-302-CMAS | U30: SBP-300LM | V30: SBP-300PM | W30: SBP-300B | X30: SBP-300NB | Y30: SBP-300KM | Z30: None | AA30: None | AB30: None | AC30: None | AD30: None | AE30: None | AF30: None | AG30: None | AH30: None | AI30: None | AJ30: None | AK30: None | AL30: None | AM30: SPG-IND12B | AN30: Double | AO30: SBD-110GP | AP30: Single, Double, 4" Octagon | AQ30: None | AR30: =VLOOKUP(A:A,EOL!A:B,2,FALSE) -> <-Camera is EOL
A31: HCD-7010RA | B31: D5 | C31: SBD-110GP (sold separately) | D31: None | E31: None | F31: None | G31: None | H31: None | I31: None | J31: SPB-IND12 | K31: SBP-300HM7 | L31: None | M31: SBP-120WM | N31: SBP-300WM1 | O31: SBP-300WM | P31: SBP-390WM1 | Q31: SBP-390WM2 | R31: SBP-300CM | S31: SBP-302CM /-12/-36 + SBP-302CMA/B/S Optional SBP-2CTW1 | T31: SBP-302-CMAS | U31: SBP-300LM | V31: SBP-300PM | W31: SBP-300B | X31: SBP-300NB | Y31: SBP-300KM | Z31: None | AA31: None | AB31: None | AC31: None | AD31: None | AE31: None | AF31: None | AG31: None | AH31: None | AI31: None | AJ31: None | AK31: None | AL31: None | AM31: SPG-IND12B | AN31: Double | AO31: SBD-110GP | AP31: Single, Double, 4" Octagon | AQ31: None | AR31: =VLOOKUP(A:A,EOL!A:B,2,FALSE) -> #N/A
A32: HCD-7020R | B32: D5 | C32: SBD-110GP (sold separately) | D32: None | E32: None | F32: None | G32: None | H32: None | I32: None | J32: SPB-IND12 | K32: SBP-300HM7 | L32: None | M32: SBP-120WM | N32: SBP-300WM1 | O32: SBP-300WM | P32: SBP-390WM1 | Q32: SBP-390WM2 | R32: SBP-300CM | S32: SBP-302CM /-12/-36 + SBP-302CMA/B/S Optional SBP-2CTW1 | T32: SBP-302-CMAS | U32: SBP-300LM | V32: SBP-300PM | W32: SBP-300B | X32: SBP-300NB | Y32: SBP-300KM | Z32: None | AA32: None | AB32: None | AC32: None | AD32: None | AE32: None | AF32: None | AG32: None | AH32: None | AI32: None | AJ32: None | AK32: None | AL32: None | AM32: SPG-IND12B | AN32: Double | AO32: SBD-110GP | AP32: Single, Double, 4" Octagon | AQ32: None | AR32: =VLOOKUP(A:A,EOL!A:B,2,FALSE) -> <-Camera is EOL
A33: HCD-7020RA | B33: D5 | C33: SBD-110GP (sold separately) | D33: None | E33: None | F33: None | G33: None | H33: None | I33: None | J33: SPB-IND12 | K33: SBP-300HM7 | L33: None | M33: SBP-120WM | N33: SBP-300WM1 | O33: SBP-300WM | P33: SBP-390WM1 | Q33: SBP-390WM2 | R33: SBP-300CM | S33: SBP-302CM /-12/-36 + SBP-302CMA/B/S Optional SBP-2CTW1 | T33: SBP-302-CMAS | U33: SBP-300LM | V33: SBP-300PM | W33: SBP-300B | X33: SBP-300NB | Y33: SBP-300KM | Z33: None | AA33: None | AB33: None | AC33: None | AD33: None | AE33: None | AF33: None | AG33: None | AH33: None | AI33: None | AJ33: None | AK33: None | AL33: None | AM33: SPG-IND12B | AN33: Double | AO33: SBD-110GP | AP33: Single, Double, 4" Octagon | AQ33: None | AR33: =VLOOKUP(A:A,EOL!A:B,2,FALSE) -> <-Camera is EOL
A34: HCD-7030R | B34: D5 | C34: SBD-110GP (sold separately) | D34: None | E34: None | F34: None | G34: None | H34: None | I34: None | J34: SPB-IND12 | K34: SBP-300HM7 | L34: None | M34: SBP-120WM | N34: SBP-300WM1 | O34: SBP-300WM | P34: SBP-390WM1 | Q34: SBP-390WM2 | R34: SBP-300CM | S34: SBP-302CM /-12/-36 + SBP-302CMA/B/S Optional SBP-2CTW1 | T34: SBP-302-CMAS | U34: SBP-300LM | V34: SBP-300PM | W34: SBP-300B | X34: SBP-300NB | Y34: SBP-300KM | Z34: None | AA34: None | AB34: None | AC34: None | AD34: None | AE34: None | AF34: None | AG34: None | AH34: None | AI34: None | AJ34: None | AK34: None | AL34: None | AM34: SPG-IND12B | AN34: Double | AO34: SBD-110GP | AP34: Single, Double, 4" Octagon | AQ34: None | AR34: =VLOOKUP(A:A,EOL!A:B,2,FALSE) -> <-Camera is EOL
A35: HCD-7030RA | B35: D5 | C35: SBD-110GP (sold separately) | D35: None | E35: None | F35: None | G35: None | H35: None | I35: None | J35: SPB-IND12 | K35: SBP-300HM7 | L35: None | M35: SBP-120WM | N35: SBP-300WM1 | O35: SBP-300WM | P35: SBP-390WM1 | Q35: SBP-390WM2 | R35: SBP-300CM | S35: SBP-302CM /-12/-36 + SBP-302CMA/B/S Optional SBP-2CTW1 | T35: SBP-302-CMAS | U35: SBP-300LM | V35: SBP-300PM | W35: SBP-300B | X35: SBP-300NB | Y35: SBP-300KM | Z35: None | AA35: None | AB35: None | AC35: None | AD35: None | AE35: None | AF35: None | AG35: None | AH35: None | AI35: None | AJ35: None | AK35: None | AL35: None | AM35: SPG-IND12B | AN35: Double | AO35: SBD-110GP | AP35: Single, Double, 4" Octagon | AQ35: None | AR35: =VLOOKUP(A:A,EOL!A:B,2,FALSE) -> <-Camera is EOL
A36: HCD-7070R | B36: D4-0 | C36: SBD-120GP (sold separately) | D36: None | E36: SHD-3000F2 | F36: None | G36: None | H36: None | I36: None | J36: SPB-IND6 | K36: SBP-122HM | L36: None | M36: SBP-120WM | N36: SBP-300WM1 | O36: SBP-300WM | P36: SBP-390WM1 | Q36: SBP-390WM2 | R36: SBP-300CM | S36: SBP-302CM /-12/-36 + SBP-302CMA/B/S Optional SBP-2CTW1 | T36: SBP-302-CMAS | U36: SBP-300LM | V36: SBP-300PM | W36: SBP-300B | X36: SBP-300NB | Y36: SBP-300KM | Z36: None | AA36: None | AB36: None | AC36: None | AD36: None | AE36: None | AF36: None | AG36: None | AH36: None | AI36: None | AJ36: None | AK36: None | AL36: None | AM36: None | AN36: Double | AO36: SBD-120GP | AP36: Single, Double, 4" Octagon | AQ36: None | AR36: =VLOOKUP(A:A,EOL!A:B,2,FALSE) -> <-Camera is EOL
A37: HCD-7070RA | B37: D4-0 | C37: SBD-120GP (sold separately) | D37: None | E37: SHD-3000F2 | F37: None | G37: None | H37: None | I37: None | J37: SPB-IND6 | K37: SBP-122HM | L37: None | M37: SBP-120WM | N37: SBP-300WM1 | O37: SBP-300WM | P37: SBP-390WM1 | Q37: SBP-390WM2 | R37: SBP-300CM | S37: SBP-302CM /-12/-36 + SBP-302CMA/B/S Optional SBP-2CTW1 | T37: SBP-302-CMAS | U37: SBP-300LM | V37: SBP-300PM | W37: SBP-300B | X37: SBP-300NB | Y37: SBP-300KM | Z37: None | AA37: None | AB37: None | AC37: None | AD37: None | AE37: None | AF37: None | AG37: None | AH37: None | AI37: None | AJ37: None | AK37: None | AL37: None | AM37: None | AN37: Double | AO37: SBD-120GP | AP37: Single, Double, 4" Octagon | AQ37: None | AR37: =VLOOKUP(A:A,EOL!A:B,2,FALSE) -> <-Camera is EOL
A38: HCF-8010V | B38: FV4 | AR38: =VLOOKUP(A:A,EOL!A:B,2,FALSE) -> <-Camera is EOL
A39: HCF-8011RV | B39: FV5 | C39: Included | AN39: - | AO39: Included | AP39: Single, Double, 4" Octagon | AQ39: None | AR39: =VLOOKUP(A:A,EOL!A:B,2,FALSE) -> #N/A
A40: HCO-6020R | B40: B05 | C40: None | D40: SBO-100B1 | E40: None | F40: None | G40: None | H40: None | I40: None | J40: None | K40: None | L40: None | M40: None | N40: None | O40: None | P40: None | Q40: None | R40: None | S40: None | T40: None | U40: None | V40: SBP-302PM | W40: None | X40: None | Y40: None | Z40: None | AA40: None | AB40: None | AC40: None | AD40: None | AE40: None | AF40: None | AG40: None | AH40: None | AI40: None | AJ40: None | AK40: None | AL40: None | AM40: None | AN40: - | AO40: - | AP40: - | AQ40: None | AR40: =VLOOKUP(A:A,EOL!A:B,2,FALSE) -> #N/A
A41: HCO-6070R | B41: B01 | C41: None | D41: SBO-100B1 | E41: None | F41: None | G41: None | H41: None | I41: None | J41: None | K41: None | L41: None | M41: None | N41: None | O41: None | P41: None | Q41: None | R41: None | S41: None | T41: None | U41: None | V41: SBP-302PM | W41: None | X41: None | Y41: None | Z41: None | AA41: None | AB41: None | AC41: None | AD41: None | AE41: None | AF41: None | AG41: None | AH41: None | AI41: None | AJ41: None | AK41: None | AL41: None | AM41: None | AN41: - | AO41: - | AP41: - | AQ41: None | AR41: =VLOOKUP(A:A,EOL!A:B,2,FALSE) -> #N/A
A42: HCO-6080R | B42: B01 | C42: None | D42: SBO-100B1 | E42: None | F42: None | G42: None | H42: None | I42: None | J42: None | K42: None | L42: None | M42: None | N42: None | O42: None | P42: None | Q42: None | R42: None | S42: None | T42: None | U42: None | V42: SBP-302PM | W42: None | X42: None | Y42: None | Z42: None | AA42: None | AB42: None | AC42: None | AD42: None | AE42: None | AF42: None | AG42: None | AH42: None | AI42: None | AJ42: None | AK42: None | AL42: None | AM42: None | AN42: - | AO42: - | AP42: - | AQ42: None | AR42: =VLOOKUP(A:A,EOL!A:B,2,FALSE) -> #N/A
A43: HCO-7010R | B43: B01 | C43: None | D43: SBO-100B1 | E43: None | F43: None | G43: None | H43: None | I43: None | J43: None | K43: None | L43: None | M43: None | N43: None | O43: None | P43: None | Q43: None | R43: None | S43: None | T43: None | U43: None | V43: SBP-302PM | W43: None | X43: None | Y43: None | Z43: None | AA43: None | AB43: None | AC43: None | AD43: None | AE43: None | AF43: None | AG43: None | AH43: None | AI43: None | AJ43: None | AK43: None | AL43: None | AM43: None | AN43: - | AO43: - | AP43: - | AQ43: None | AR43: =VLOOKUP(A:A,EOL!A:B,2,FALSE) -> <-Camera is EOL
A44: HCO-7010RA | B44: B01 | C44: None | D44: SBO-100B1 | E44: None | F44: None | G44: None | H44: None | I44: None | J44: None | K44: None | L44: None | M44: None | N44: None | O44: None | P44: None | Q44: None | R44: None | S44: None | T44: None | U44: None | V44: SBP-302PM | W44: None | X44: None | Y44: None | Z44: None | AA44: None | AB44: None | AC44: None | AD44: None | AE44: None | AF44: None | AG44: None | AH44: None | AI44: None | AJ44: None | AK44: None | AL44: None | AM44: None | AN44: - | AO44: - | AP44: - | AQ44: None | AR44: =VLOOKUP(A:A,EOL!A:B,2,FALSE) -> #N/A
A45: HCO-7020R | B45: B01 | C45: None | D45: SBO-100B1 | E45: None | F45: None | G45: None | H45: None | I45: None | J45: None | K45: None | L45: None | M45: None | N45: None | O45: None | P45: None | Q45: None | R45: None | S45: None | T45: None | U45: None | V45: SBP-302PM | W45: None | X45: None | Y45: None | Z45: None | AA45: None | AB45: None | AC45: None | AD45: None | AE45: None | AF45: None | AG45: None | AH45: None | AI45: None | AJ45: None | AK45: None | AL45: None | AM45: None | AN45: - | AO45: - | AP45: - | AQ45: None | AR45: =VLOOKUP(A:A,EOL!A:B,2,FALSE) -> <-Camera is EOL
A46: HCO-7020RA | B46: B01 | C46: None | D46: SBO-100B1 | E46: None | F46: None | G46: None | H46: None | I46: None | J46: None | K46: None | L46: None | M46: None | N46: None | O46: None | P46: None | Q46: None | R46: None | S46: None | T46: None | U46: None | V46: SBP-302PM | W46: None | X46: None | Y46: None | Z46: None | AA46: None | AB46: None | AC46: None | AD46: None | AE46: None | AF46: None | AG46: None | AH46: None | AI46: None | AJ46: None | AK46: None | AL46: None | AM46: None | AN46: - | AO46: - | AP46: - | AQ46: None | AR46: =VLOOKUP(A:A,EOL!A:B,2,FALSE) -> <-Camera is EOL
A47: HCO-7030R | B47: B01 | C47: None | D47: SBO-100B1 | E47: None | F47: None | G47: None | H47: None | I47: None | J47: None | K47: None | L47: None | M47: None | N47: None | O47: None | P47: None | Q47: None | R47: None | S47: None | T47: None | U47: None | V47: SBP-302PM | W47: None | X47: None | Y47: None | Z47: None | AA47: None | AB47: None | AC47: None | AD47: None | AE47: None | AF47: None | AG47: None | AH47: None | AI47: None | AJ47: None | AK47: None | AL47: None | AM47: None | AN47: - | AO47: - | AP47: - | AQ47: None | AR47: =VLOOKUP(A:A,EOL!A:B,2,FALSE) -> <-Camera is EOL
A48: HCO-7030RA | B48: B01 | C48: None | D48: SBO-100B1 | E48: None | F48: None | G48: None | H48: None | I48: None | J48: None | K48: None | L48: None | M48: None | N48: None | O48: None | P48: None | Q48: None | R48: None | S48: None | T48: None | U48: None | V48: SBP-302PM | W48: None | X48: None | Y48: None | Z48: None | AA48: None | AB48: None | AC48: None | AD48: None | AE48: None | AF48: None | AG48: None | AH48: None | AI48: None | AJ48: None | AK48: None | AL48: None | AM48: None | AN48: - | AO48: - | AP48: - | AQ48: None | AR48: =VLOOKUP(A:A,EOL!A:B,2,FALSE) -> <-Camera is EOL
A49: HCO-7070R | B49: B01 | C49: None | D49: SBO-100B1 | E49: None | F49: None | G49: None | H49: None | I49: None | J49: None | K49: None | L49: None | M49: None | N49: None | O49: None | P49: None | Q49: None | R49: None | S49: None | T49: None | U49: None | V49: SBP-302PM | W49: None | X49: None | Y49: None | Z49: None | AA49: None | AB49: None | AC49: None | AD49: None | AE49: None | AF49: None | AG49: None | AH49: None | AI49: None | AJ49: None | AK49: None | AL49: None | AM49: None | AN49: - | AO49: - | AP49: - | AQ49: None | AR49: =VLOOKUP(A:A,EOL!A:B,2,FALSE) -> <-Camera is EOL
A50: HCO-7070RA | B50: B01 | C50: None | D50: SBO-100B1 | E50: None | F50: None | G50: None | H50: None | I50: None | J50: None | K50: None | L50: None | M50: None | N50: None | O50: None | P50: None | Q50: None | R50: None | S50: None | T50: None | U50: None | V50: SBP-302PM | W50: None | X50: None | Y50: None | Z50: None | AA50: None | AB50: None | AC50: None | AD50: None | AE50: None | AF50: None | AG50: None | AH50: None | AI50: None | AJ50: None | AK50: None | AL50: None | AM50: None | AN50: - | AO50: - | AP50: - | AQ50: None | AR50: =VLOOKUP(A:A,EOL!A:B,2,FALSE) -> #N/A
A51: HCP-6230 | B51: P04 | C51: None | D51: None | E51: SHP-3701F | F51: SHP-3701FB | G51: SHP-3701H | H51: None | I51: None | J51: SPB-PTZ6 | K51: SBP-301HM3 | L51: None | M51: None | N51: SBP-300WM1 | O51: SBP-300WM | P51: SBP-390WM1 | Q51: SBP-390WM2 | R51: SBP-300CM | S51: SBP-302CM /-12/-36 + SBP-302CMA/B/S Optional SBP-2CTW1 | T51: SBP-302-CMAS | U51: SBP-300LM | V51: SBP-300PM | W51: SBP-300B | X51: SBP-300NB | Y51: SBP-300KM | Z51: None | AA51: None | AB51: None | AC51: None | AD51: None | AE51: None | AF51: None | AG51: None | AH51: None | AI51: None | AJ51: None | AK51: None | AL51: None | AM51: None | AN51: - | AO51: - | AP51: - | AQ51: None | AR51: =VLOOKUP(A:A,EOL!A:B,2,FALSE) -> #N/A
... A80: LNV-6011R | B80: V7 | C80: Included | D80: None | E80: None | F80: None | G80: None | H80: None | I80: None | J80: SPB-VAN12 | K80: SBP-122HM | L80: None | M80: SBP-137WM1 | N80: SBP-300WM1 | O80: SBP-300WM | P80: SBP-390WM1 | Q80: SBP-390WM2 | R80: SBP-300CM | S80: SBP-302CM /-12/-36 + SBP-302CMA/B/S Optional SBP-2CTW1 | T80: SBP-302-CMAS | U80: SBP-300LM | V80: SBP-300PM | W80: SBP-300B | X80: SBP-300NB | Y80: SBP-300KM | Z80: None | AA80: None | AB80: None | AC80: None | AD80: None | AE80: None | AF80: None | AG80: None | AH80: None | AI80: None | AJ80: SBV-120WC | AK80: None | AL80: None | AM80: None | AN80: - | AO80: Included | AP80: Single, Double, 4" Octagon | AQ80: None | AR80: =VLOOKUP(A:A,EOL!A:B,2,FALSE) -> <-Camera is EOL
A81: LNV-6012R | B81: V7W | C81: Included | D81: SBV-120GW | E81: None | F81: None | G81: None | H81: None | I81: None | J81: SPB-VAW12 | K81: SBP-122HMW | M81: SBP-137WMW1 | N81: SBP-300WMW1 | O81: None | P81: None | Q81: None | R81: SBP-300CMW | S81: None | T81: None | U81: SBP-300LMW | V81: SBP-300PMW | W81: SBP-300BW | X81: SBP-300NBW | Y81: SBP-300KMW | Z81: None | AA81: None | AB81: None | AC81: None | AD81: None | AE81: None | AF81: None | AG81: None | AH81: None | AI81: None | AJ81: SBV-120WCW | AK81: None | AL81: None | AM81: None | AN81: - | AO81: Included | AP81: Single, Double, 4" Octagon | AQ81: None | AR81: =VLOOKUP(A:A,EOL!A:B,2,FALSE) -> <-Camera is EOL
A82: LNV-6021R | B82: V7 | C82: Included | D82: None | E82: None | F82: None | G82: None | H82: None | I82: None | J82: SPB-VAN12 | K82: SBP-122HM | L82: None | M82: SBP-137WM1 | N82: SBP-300WM1 | O82: SBP-300WM | P82: SBP-390WM1 | Q82: SBP-390WM2 | R82: SBP-300CM | S82: SBP-302CM /-12/-36 + SBP-302CMA/B/S Optional SBP-2CTW1 | T82: SBP-302-CMAS | U82: SBP-300LM | V82: SBP-300PM | W82: SBP-300B | X82: SBP-300NB | Y82: SBP-300KM | Z82: None | AA82: None | AB82: None | AC82: None | AD82: None | AE82: None | AF82: None | AG82: None | AH82: None | AI82: None | AJ82: SBV-120WC | AK82: None | AL82: None | AM82: None | AN82: - | AO82: Included | AP82: Single, Double, 4" Octagon | AQ82: None | AR82: =VLOOKUP(A:A,EOL!A:B,2,FALSE) -> <-Camera is EOL
A83: LNV-6022R | B83: V7W | C83: Included | D83: SBV-120GW | E83: None | F83: None | G83: None | H83: None | I83: None | J83: SPB-VAW12 | K83: SBP-122HMW | M83: SBP-137WMW1 | N83: SBP-300WMW1 | O83: None | P83: None | Q83: None | R83: SBP-300CMW | S83: None | T83: None | U83: SBP-300LMW | V83: SBP-300PMW | W83: SBP-300BW | X83: SBP-300NBW | Y83: SBP-300KMW | Z83: None | AA83: None | AB83: None | AC83: None | AD83: None | AE83: None | AF83: None | AG83: None | AH83: None | AI83: None | AJ83: SBV-120WCW | AK83: None | AL83: None | AM83: None | AN83: - | AO83: Included | AP83: Single, Double, 4" Octagon | AQ83: None | AR83: =VLOOKUP(A:A,EOL!A:B,2,FALSE) -> <-Camera is EOL
A84: LNV-6031R | B84: V7 | C84: Included | D84: None | E84: None | F84: None | G84: None | H84: None | I84: None | J84: SPB-VAN12 | K84: SBP-122HM | L84: None | M84: SBP-137WM1 | N84: SBP-300WM1 | O84: SBP-300WM | P84: SBP-390WM1 | Q84: SBP-390WM2 | R84: SBP-300CM | S84: SBP-302CM /-12/-36 + SBP-302CMA/B/S Optional SBP-2CTW1 | T84: SBP-302-CMAS | U84: SBP-300LM | V84: SBP-300PM | W84: SBP-300B | X84: SBP-300NB | Y84: SBP-300KM | Z84: None | AA84: None | AB84: None | AC84: None | AD84: None | AE84: None | AF84: None | AG84: None | AH84: None | AI84: None | AJ84: SBV-120WC | AK84: None | AL84: None | AM84: None | AN84: - | AO84: Included | AP84: Single, Double, 4" Octagon | AQ84: None | AR84: =VLOOKUP(A:A,EOL!A:B,2,FALSE) -> <-Camera is EOL
A85: LNV-6032R | B85: V7W | C85: Included | D85: SBV-120GW | E85: None | F85: None | G85: None | H85: None | I85: None | J85: SPB-VAW12 | K85: SBP-122HMW | M85: SBP-137WMW1 | N85: SBP-300WMW1 | O85: None | P85: None | Q85: None | R85: SBP-300CMW | S85: None | T85: None | U85: SBP-300LMW | V85: SBP-300PMW | W85: SBP-300BW | X85: SBP-300NBW | Y85: SBP-300KMW | Z85: None | AA85: None | AB85: None | AC85: None | AD85: None | AE85: None | AF85: None | AG85: None | AH85: None | AI85: None | AJ85: SBV-120WCW | AK85: None | AL85: None | AM85: None | AN85: - | AO85: Included | AP85: Single, Double, 4" Octagon | AQ85: None | AR85: =VLOOKUP(A:A,EOL!A:B,2,FALSE) -> <-Camera is EOL
A86: LNV-6071R | B86: V5 | C86: Included | D86: SBV-136B | E86: SHD-3000F3 | F86: None | G86: None | H86: None | I86: None | J86: SPB-VAN72 | K86: SBP-301HM2 | L86: None | M86: SBP-137WM1 | N86: SBP-300WM1 | O86: SBP-300WM | P86: SBP-390WM1 | Q86: SBP-390WM2 | R86: SBP-300CM | S86: SBP-302CM /-12/-36 + SBP-302CMA/B/S Optional SBP-2CTW1 | T86: SBP-302-CMAS | U86: SBP-300LM | V86: SBP-300PM | W86: SBP-300B | X86: SBP-300NB | Y86: SBP-300KM | Z86: None | AA86: None | AB86: None | AC86: None | AD86: None | AE86: None | AF86: None | AG86: None | AH86: None | AI86: None | AJ86: None | AK86: None | AL86: None | AM86: None | AN86: - | AO86: Included | AP86: Single, Double, 4" Octagon | AQ86: None | AR86: =VLOOKUP(A:A,EOL!A:B,2,FALSE) -> <-Camera is EOL
A87: LNV-6072R | B87: V5W | C87: Included | D87: SBV-136BW | E87: SHD-3000FW3 | F87: None | G87: None | H87: None | I87: None | J87: None | K87: SBP-301HMW2 | L87: None | M87: SBP-137WMW | N87: SBP-300WMW1 | O87: None | P87: None | Q87: None | R87: SBP-300CMW | S87: None | T87: None | U87: SBP-300LMW | V87: SBP-300PMW | W87: SBP-300BW | X87: SBP-300NBW | Y87: SBP-300KMW | Z87: None | AA87: None | AB87: None | AC87: None | AD87: None | AE87: None | AF87: None | AG87: None | AH87: None | AI87: None | AJ87: None | AK87: None | AL87: None | AM87: None | AN87: - | AO87: Included | AP87: Single, Double, 4" Octagon | AQ87: None | AR87: =VLOOKUP(A:A,EOL!A:B,2,FALSE) -> <-Camera is EOL
A88: PNB-A6001 | B88: BO5-0 | C88: None | D88: None | E88: None | F88: SHB-4300H1 | G88: SHB-4301HP | H88: SHB-4200 | I88: SHB-4200H | J88: None | K88: None | L88: None | M88: STB-4150V | N88: None | O88: None | P88: None | Q88: None | R88: None | S88: None | T88: None | U88: None | V88: None | W88: None | X88: None | Y88: None | Z88: None | AA88: SLA-F-M419DN | AB88: SLA-E-M1240DNB | AC88: None | AD88: None | AE88: None | AF88: None | AG88: None | AH88: None | AI88: None | AJ88: None | AK88: None | AL88: None | AM88: None | AN88: - | AO88: - | AP88: None | AQ88: None | AR88: =VLOOKUP(A:A,EOL!A:B,2,FALSE) -> <-Camera is EOL
A89: PNB-A9001 | B89: BO5-0 | C89: None | D89: None | E89: None | F89: SHB-4300H1 | G89: SHB-4301HP | H89: SHB-4200 | I89: SHB-4200H | J89: None | K89: None | L89: None | M89: STB-4150V | N89: None | O89: None | P89: None | Q89: None | R89: None | S89: None | T89: None | U89: None | V89: None | W89: None | X89: None | Y89: None | Z89: None | AA89: SLA-F-M419DN | AB89: SLA-E-M1240DNB | AC89: None | AD89: None | AE89: None | AF89: None | AG89: None | AH89: None | AI89: None | AJ89: None | AK89: None | AL89: None | AM89: None | AN89: - | AO89: - | AP89: None | AQ89: None | AR89: =VLOOKUP(A:A,EOL!A:B,2,FALSE) -> <-Camera is EOL
A90: PNB-A9082 | B90: BO5-1 | C90: None | AN90: - | AO90: - | AP90: None | AQ90: None | AR90: =VLOOKUP(A:A,EOL!A:B,2,FALSE) -> #N/A
A91: PNB-A9092 | B91: BO5-1 | C91: None | AN91: - | AO91: - | AP91: None | AQ91: None | AR91: =VLOOKUP(A:A,EOL!A:B,2,FALSE) -> #N/A
A92: PNB-A9091RLPH | B92: BO6-1 | C92: None | D92: None | E92: None | F92: None | G92: None | H92: None | I92: None | J92: None | K92: None | L92: None | M92: None | N92: None | O92: None | P92: None | Q92: None | R92: None | S92: None | T92: None | U92: None | V92: SHB-V-WCPA | W92: SHB-V-DBHWGC | X92: None | Y92: None | Z92: None | AA92: None | AB92: None | AC92: None | AD92: None | AE92: None | AF92: None | AG92: None | AH92: None | AI92: None | AJ92: None | AK92: None | AL92: None | AM92: None | AN92: - | AO92: - | AP92: None | AQ92: None | AR92: =VLOOKUP(A:A,EOL!A:B,2,FALSE) -> <-Camera is EOL
A93: PNB-A9092RLPH | B93: BO6-2 | C93: None | AN93: - | AO93: - | AP93: None | AQ93: None | AR93: =VLOOKUP(A:A,EOL!A:B,2,FALSE) -> #N/A
A94: PND-9080R | B94: D6 | C94: Included | D94: None | E94: SHD-3000F4 | F94: None | G94: None | H94: None | I94: None | J94: SPB-IND81V | K94: SBP-300HM8 | L94: None | M94: None | N94: SBP-300WM1 | O94: SBP-300WM | P94: SBP-390WM1 | Q94: SBP-390WM2 | R94: SBP-300CM | S94: SBP-302CM /-12/-36 + SBP-302CMA/B/S Optional SBP-2CTW1 | T94: SBP-302-CMAS | U94: SBP-300LM | V94: SBP-300PM | W94: SBP-300B | X94: SBP-300NB | Y94: SBP-300KM | Z94: None | AA94: None | AB94: None | AC94: None | AD94: None | AE94: None | AF94: None | AG94: None | AH94: None | AI94: None | AJ94: None | AK94: None | AL94: None | AM94: None | AN94: 4S | AO94: Included | AP94: Single, Double, 4" Octagon, 4" Square | AQ94: None | AR94: =VLOOKUP(A:A,EOL!A:B,2,FALSE) -> <-Camera is EOL
A95: PND-A6081RF | B95: WN7-4 | C95: None | D95: None | E95: SBP-302F | F95: None | G95: None | H95: None | I95: None | J95: None | K95: None | L95: None | M95: None | N95: None | O95: None | P95: None | Q95: None | R95: None | S95: None | T95: None | U95: None | V95: None | W95: None | X95: None | Y95: None | Z95: None | AA95: None | AB95: None | AC95: None | AD95: None | AE95: None | AF95: None | AG95: None | AH95: None | AI95: None | AJ95: None | AK95: None | AL95: None | AM95: None | AN95: - | AO95: None | AP95: None | AQ95: None | AR95: =VLOOKUP(A:A,EOL!A:B,2,FALSE) -> #N/A
A96: PND-A6081RV | B96: WN7-1 | C96: Included | D96: None | E96: None | F96: None | G96: None | H96: None | I96: None | J96: None | K96: SBP-167HMW SBP-167HM | L96: None | M96: None | N96: SBP-300WMW1 SBP-300WM1 | O96: SBP-300WM | P96: SBP-390WM1 | Q96: SBP-390WM2 | R96: SBP-300CM SBP-300CMW | S96: SBP-302CM /-12/-36 + SBP-302CMA/B/S Optional SBP-2CTW1 | T96: SBP-302-CMAS | U96: SBP-300LM SBP-300LMW | V96: SBP-300PM SBP-300PMW | W96: SBP-300B SBP-300BW | X96: SBP-300NB SBP-300NBW | Y96: SBP-300KM SBP-300KMW | Z96: None | AA96: None | AB96: None | AC96: None | AD96: None | AE96: None | AF96: None | AG96: None | AH96: None | AI96: None | AJ96: None | AK96: None | AL96: None | AM96: SBC-160B | AN96: - | AO96: Included | AP96: Single, Double, 4" Octagon | AQ96: None | AR96: =VLOOKUP(A:A,EOL!A:B,2,FALSE) -> #N/A
A97: PND-A7082RV | B97: WN7-C5 | C97: Included | AN97: - | AO97: Included | AP97: Single, Double, 4" Octagon, 4" Square | AQ97: None | AR97: =VLOOKUP(A:A,EOL!A:B,2,FALSE) -> #N/A
A98: PND-A9081RF | B98: WN7-4 | C98: None | D98: None | E98: SBP-302F | F98: None | G98: None | H98: None | I98: None | J98: None | K98: None | L98: None | M98: None | N98: None | O98: None | P98: None | Q98: None | R98: None | S98: None | T98: None | U98: None | V98: None | W98: None | X98: None | Y98: None | Z98: None | AA98: None | AB98: None | AC98: None | AD98: None | AE98: None | AF98: None | AG98: None | AH98: None | AI98: None | AJ98: None | AK98: None | AL98: None | AM98: None | AN98: - | AO98: None | AP98: None | AQ98: None | AR98: =VLOOKUP(A:A,EOL!A:B,2,FALSE) -> #N/A
A99: PND-A9081RV | B99: WN7-1 | C99: Included | D99: None | E99: None | F99: None | G99: None | H99: None | I99: None | J99: None | K99: SBP-167HMW SBP-167HM | L99: None | M99: None | N99: SBP-300WMW1 SBP-300WM1 | O99: SBP-300WM | P99: SBP-390WM1 | Q99: SBP-390WM2 | R99: SBP-300CM SBP-300CMW | S99: SBP-302CM /-12/-36 + SBP-302CMA/B/S Optional SBP-2CTW1 | T99: SBP-302-CMAS | U99: SBP-300LM SBP-300LMW | V99: SBP-300PM SBP-300PMW | W99: SBP-300B SBP-300BW | X99: SBP-300NB SBP-300NBW | Y99: SBP-300KM SBP-300KMW | Z99: None | AA99: None | AB99: None | AC99: None | AD99: None | AE99: None | AF99: None | AG99: None | AH99: None | AI99: None | AJ99: None | AK99: None | AL99: None | AM99: SBC-160B | AN99: - | AO99: Included | AP99: Single, Double, 4" Octagon | AQ99: None | AR99: =VLOOKUP(A:A,EOL!A:B,2,FALSE) -> #N/A
A100: PND-A9082RV | B100: WN7-C5 | C100: Included | AN100: - | AO100: Included | AP100: Single, Double, 4" Octagon, 4" Square | AQ100: None | AR100: =VLOOKUP(A:A,EOL!A:B,2,FALSE) -> #N/A
A101: PNF-9010R | B101: F02 | C101: Included | D101: SBF-100B1 | E101: None | F101: None | G101: None | H101: None | I101: None | J101: SHF-1500F | K101: SBP-300HM5 | L101: SBP-300TM1 | M101: None | N101: SBP-300WM1 | O101: SBP-300WM | P101: SBP-390WM1 | Q101: SBP-390WM2 | R101: SBP-300CM | S101: SBP-302CM /-12/-36 + SBP-302CMA/B/S Optional SBP-2CTW1 | T101: SBP-302-CMAS | U101: SBP-300LM | V101: SBP-300PM | W101: SBP-300B | X101: SBP-300NB | Y101: SBP-300KM | Z101: None | AA101: None | AB101: None | AC101: None | AD101: None | AE101: None | AF101: None | AG101: None | AH101: None | AI101: None | AJ101: None | AK101: None | AL101: None | AM101: None | AN101: - | AO101: Included | AP101: Single, Double, 4" Octagon | AQ101: None | AR101: =VLOOKUP(A:A,EOL!A:B,2,FALSE) -> <-Camera is EOL
A102: PNF-9010RV | B102: FV2 | C102: Included | D102: SBF-100B1 | E102: None | F102: None | G102: None | H102: None | I102: None | J102: None | K102: SBP-300HM5 | L102: SBP-300TM1 | M102: None | N102: SBP-300WM1 | O102: SBP-300WM | P102: SBP-390WM1 | Q102: SBP-390WM2 | R102: SBP-300CM | S102: SBP-302CM /-12/-36 + SBP-302CMA/B/S Optional SBP-2CTW1 | T102: SBP-302-CMAS | U102: SBP-300LM | V102: SBP-300PM | W102: SBP-300B | X102: SBP-300NB | Y102: SBP-300KM | Z102: None | AA102: None | AB102: None | AC102: None | AD102: None | AE102: None | AF102: None | AG102: None | AH102: None | AI102: None | AJ102: None | AK102: None | AL102: None | AM102: None | AN102: - | AO102: Included | AP102: Single, Double, 4" Octagon | AQ102: None | AR102: =VLOOKUP(A:A,EOL!A:B,2,FALSE) -> <-Camera is EOL
A103: PNF-9010RVM | B103: FV2 | C103: Included | D103: SBF-100B1 | E103: None | F103: None | G103: None | H103: None | I103: None | J103: None | K103: SBP-300HM5 | L103: SBP-300TM1 | M103: None | N103: SBP-300WM1 | O103: SBP-300WM | P103: SBP-390WM1 | Q103: SBP-390WM2 | R103: SBP-300CM | S103: SBP-302CM /-12/-36 + SBP-302CMA/B/S Optional SBP-2CTW1 | T103: SBP-302-CMAS | U103: SBP-300LM | V103: SBP-300PM | W103: SBP-300B | X103: SBP-300NB | Y103: SBP-300KM | Z103: None | AA103: None | AB103: None | AC103: None | AD103: None | AE103: None | AF103: None | AG103: None | AH103: None | AI103: None | AJ103: None | AK103: None | AL103: None | AM103: None | AN103: - | AO103: Included | AP103: Single, Double, 4" Octagon | AQ103: None | AR103: =VLOOKUP(A:A,EOL!A:B,2,FALSE) -> <-Camera is EOL
A104: PNM-12082RVD | B104: 2CH | C104: Included | AO104: Included | AP104: Single, Double, 4" Octagon, 4" Square | AQ104: None | AR104: =VLOOKUP(A:A,EOL!A:B,2,FALSE) -> #N/A
A105: PNM-7000VD | B105: V8 | C105: Included | D105: SBV-158G | E105: None | F105: None | G105: None | H105: None | I105: None | J105: None | K105: SBP-300HM6 | L105: SBP-160TM | M105: None | N105: SBP-300WM1 | O105: SBP-300WM | P105: SBP-390WM1 | Q105: SBP-390WM2 | R105: SBP-300CM | S105: SBP-302CM /-12/-36 + SBP-302CMA/B/S Optional SBP-2CTW1 | T105: SBP-302-CMAS | U105: SBP-300LM | V105: SBP-300PM | W105: SBP-300B | X105: SBP-300NB | Y105: SBP-300KM | Z105: None | AA105: SLA-2M2400D | AB105: SLA-2M2800D | AC105: SLA-2M3600D | AD105: SLA-2M6000D | AE105: None | AF105: None | AG105: None | AH105: None | AI105: None | AJ105: None | AK105: None | AL105: None | AM105: None | AN105: - | AO105: Included | AP105: Single, Double, 4" Octagon, 4" Square | AQ105: None | AR105: =VLOOKUP(A:A,EOL!A:B,2,FALSE) -> <-Camera is EOL
A106: PNM-7002VD | B106: V81-1 | C106: Included | D106: None | E106: None | F106: None | G106: None | H106: None | I106: None | J106: None | K106: SBP-201HMW | L106: None | M106: None | N106: SBP-300WMW2 | O106: None | P106: None | Q106: None | R106: SBP-300CMW | S106: None | T106: None | U106: SBP-300LMW | V106: SBP-300PMW | W106: SBP-300BW | X106: SBP-300NBW | Y106: SBP-300KMW | Z106: None | AA106: None | AB106: None | AC106: None | AD106: None | AF106: SLA-5M3700D | AG106: SLA-5M4600D | AH106: SLA-5M7000D | AI106: None | AJ106: None | AK106: None | AL106: None | AM106: None | AN106: - | AO106: Included | AP106: Single, Double, 4" Octagon, 4" Square | AQ106: None | AR106: =VLOOKUP(A:A,EOL!A:B,2,FALSE) -> <-Camera is EOL
A107: PNM-7082RVD | B107: 2CH | C107: Included | AO107: Included | AP107: Single, Double, 4" Octagon, 4" Square | AQ107: None | AR107: =VLOOKUP(A:A,EOL!A:B,2,FALSE) -> #N/A
A108: PNM-8082VT | B108: WN7-M1 | C108: Included | D108: None | E108: None | F108: None | G108: None | H108: None | I108: None | J108: None | K108: None | L108: None | M108: None | N108: None | O108: None | P108: None | Q108: None | R108: None | S108: None | T108: None | U108: None | V108: None | W108: None | X108: None | Y108: None | Z108: None | AA108: None | AB108: None | AC108: None | AD108: None | AE108: None | AF108: None | AG108: None | AH108: None | AI108: None | AJ108: None | AK108: None | AL108: None | AM108: None | AN108: - | AO108: Included | AP108: Single, Double, 4" Octagon, 4" Square | AR108: =VLOOKUP(A:A,EOL!A:B,2,FALSE) -> #N/A
A109: PNM-9000QB | B109: V9 | C109: Included | D109: None | E109: None | F109: None | G109: None | H109: None | I109: None | J109: None | AR109: =VLOOKUP(A:A,EOL!A:B,2,FALSE) -> #N/A
A110: PNM-9000VD | B110: V81 | C110: Included | D110: None | E110: None | F110: None | G110: None | H110: None | I110: None | J110: None | K110: SBP-201HMW | L110: None | M110: None | N110: SBP-300WMW1 | O110: None | P110: None | Q110: None | R110: SBP-300CMW | S110: None | T110: None | U110: SBP-300LMW | V110: SBP-300PMW | W110: SBP-300BW | X110: SBP-300NBW | Y110: SBP-300KMW | Z110: None | AA110: None | AB110: None | AC110: None | AD110: None | AF110: SLA-5M3700D | AG110: SLA-5M4600D | AH110: SLA-5M7000D | AI110: None | AJ110: None | AK110: None | AL110: None | AM110: None | AN110: - | AO110: Included | AP110: Single, Double, 4" Octagon, 4" Square | AQ110: None | AR110: =VLOOKUP(A:A,EOL!A:B,2,FALSE) -> #N/A
A111: PNM-9000VQ | B111: M3 | C111: Included | D111: None | E111: SHD-3000F5 | F111: None | G111: None | H111: None | I111: None | J111: None | K111: SBP-276HM | L111: None | M111: None | N111: SBP-300WM1 | O111: SBP-300WM | P111: SBP-390WM1 | Q111: SBP-390WM2 | R111: SBP-300CM | S111: SBP-302CM /-12/-36 + SBP-302CMA/B/S Optional SBP-2CTW1 | T111: SBP-302-CMAS | U111: SBP-300LM | V111: SBP-300PM | W111: SBP-300B | X111: SBP-300NB | Y111: SBP-300KM | Z111: None | AA111: SLA-2M2400Q | AB111: SLA-2M2800Q | AC111: SLA-2M3600Q | AD111: SLA-2M6000Q | AE111: SLA-5M3700Q | AF111: SLA-5M4600Q | AG111: SLA-5M7000Q | AH111: None | AI111: None | AJ111: None | AK111: None | AL111: None | AM111: None | AN111: - | AO111: Included | AP111: Single, Double, 4" Octagon, 4" Square | AQ111: None | AR111: =VLOOKUP(A:A,EOL!A:B,2,FALSE) -> <-Camera is EOL
A112: PNM-9002VQ | B112: M3-1 | C112: Included | D112: None | E112: SHD-3000F5 | F112: None | G112: None | H112: None | I112: None | J112: None | K112: SBP-276HMW | L112: None | M112: None | N112: SBP-300WMW2 | O112: SBP-300WMW | P112: SBP-390WMW1 | Q112: SBP-390WMW2 | R112: SBP-300CMW | S112: SBP-302CM /-12/-36 + SBP-302CMA/B/S Optional SBP-2CTW1 | T112: SBP-302-CMAS | U112: SBP-300LMW | V112: SBP-300PMW | W112: SBP-300BW | X112: SBP-300NBW | Y112: SBP-300KMW | Z112: None | AA112: SLA-2M2400Q | AB112: SLA-2M2800Q | AC112: SLA-2M3600Q | AD112: SLA-2M6000Q | AE112: SLA-5M3700Q | AF112: SLA-5M4600Q | AG112: SLA-5M7000Q | AH112: None | AI112: None | AJ112: None | AK112: None | AL112: None | AM112: None | AN112: - | AO112: Included | AP112: Single, Double, 4" Octagon, 4" Square | AQ112: None | AR112: =VLOOKUP(A:A,EOL!A:B,2,FALSE) -> #N/A
A113: PNM-9002VQS | B113: SS3 | C113: None | D113: None | E113: None | F113: None | G113: None | H113: None | I113: None | J113: None | K113: None | L113: None | M113: None | P113: None | Q113: None | R113: None | AR113: =VLOOKUP(A:A,EOL!A:B,2,FALSE) -> <-Camera is EOL
A114: PNM-9020V | B114: M1 | C114: Included | D114: None | E114: None | F114: None | G114: None | H114: None | I114: None | J114: None | K114: SBP-201HM | L114: None | M114: None | N114: SBP-300WM1 | O114: SBP-300WM | P114: SBP-390WM1 | Q114: SBP-390WM2 | R114: SBP-300CM | S114: SBP-302CM /-12/-36 + SBP-302CMA/B/S Optional SBP-2CTW1 | T114: SBP-302-CMAS | U114: SBP-300LM | V114: SBP-300PM | W114: SBP-300B | X114: SBP-300NB | Y114: SBP-300KM | Z114: None | AA114: None | AB114: None | AC114: None | AD114: None | AE114: None | AF114: None | AG114: None | AH114: None | AI114: None | AJ114: None | AK114: None | AL114: None | AM114: None | AN114: - | AO114: Included | AP114: Single, Double, 4" Octagon, 4" Square | AQ114: None | AR114: =VLOOKUP(A:A,EOL!A:B,2,FALSE) -> <-Camera is EOL
A115: PNM-9022V | B115: M9 | C115: Included | D115: None | E115: None | F115: None | G115: None | H115: None | I115: None | J115: None | K115: SBP-201HMW | L115: None | M115: None | N115: SBP-300WMW1 | O115: SBP-300WMW | P115: SBP-390WMW1 | Q115: SBP-390WMW2 | R115: SBP-300CMW | S115: SBP-302CMW /-12/-36 + SBP-302CMAW/B/S Optional SBP-2CTW1 | T115: SBP-302-CMASW | U115: SBP-300LMW | V115: SBP-300PMW | W115: SBP-300BW | X115: SBP-300NBW | Y115: SBP-300KMW | Z115: None | AA115: None | AB115: None | AC115: None | AD115: None | AE115: None | AF115: None | AG115: None | AH115: None | AI115: None | AJ115: None | AK115: None | AL115: None | AM115: None | AN115: - | AO115: Included | AP115: Single, Double, 4" Octagon, 4" Square | AQ115: None | AR115: =VLOOKUP(A:A,EOL!A:B,2,FALSE) -> #N/A
A116: PNM-9030V | B116: M31 | C116: Included | D116: None | E116: None | F116: None | G116: None | H116: None | I116: None | J116: None | K116: SBP-276HM | L116: None | M116: None | N116: SBP-300WM1 | O116: SBP-300WM | P116: SBP-390WM1 | Q116: SBP-390WM2 | R116: SBP-300CM | S116: SBP-302CM /-12/-36 + SBP-302CMA/B/S Optional SBP-2CTW1 | T116: SBP-302-CMAS | U116: SBP-300LM | V116: SBP-300PM | W116: SBP-300B | X116: SBP-300NB | Y116: SBP-300KM | Z116: None | AA116: None | AB116: None | AC116: None | AD116: None | AE116: None | AF116: None | AG116: None | AH116: None | AI116: None | AJ116: None | AK116: None | AL116: None | AM116: None | AN116: - | AO116: Included | AP116: Single, Double, 4" Octagon, 4" Square | AQ116: None | AR116: =VLOOKUP(A:A,EOL!A:B,2,FALSE) -> <-Camera is EOL
A117: PNM-9031RV | B117: M32 | C117: Included | D117: None | E117: None | F117: None | G117: None | H117: None | I117: None | J117: None | K117: SBP-276HMW | L117: None | M117: None | N117: SBP-300WMW3 | O117: SBP-300WMW | P117: SBP-390WMW2 | AO117: Included | AP117: Single, Double, 4" Octagon, 4" Square | AQ117: None | AR117: =VLOOKUP(A:A,EOL!A:B,2,FALSE) -> #N/A
A118: PNM-9080VQ | B118: M2 | C118: Included | D118: None | E118: SHD-317F | F118: None | G118: None | H118: None | I118: None | J118: None | K118: SBP-317HM (in), SBP-329HM (out) | L118: None | M118: None | N118: SBP-300WM1 W/ SBP-317HM only | O118: SBP-300WM | P118: SBP-390WM1 | Q118: SBP-390WM2 | R118: SBP-300CM | S118: SBP-302CM /-12/-36 + SBP-302CMA/B/S Optional SBP-2CTW1 | T118: SBP-302-CMAS | U118: SBP-300LM | V118: SBP-300PM | W118: SBP-300B | X118: SBP-300NB | Y118: SBP-300KM | Z118: None | AA118: None | AB118: None | AC118: None | AD118: None | AE118: None | AF118: None | AG118: None | AH118: None | AI118: None | AJ118: None | AK118: None | AL118: None | AM118: None | AN118: - | AO118: Included | AP118: Single, Double, 4" Octagon, 4" Square | AQ118: None | AR118: =VLOOKUP(A:A,EOL!A:B,2,FALSE) -> <-Camera is EOL
A119: PNM-9081VQ | B119: M2 | C119: Included | D119: None | E119: SHD-317F | F119: None | G119: None | H119: None | I119: None | J119: None | K119: SBP-317HM (in), SBP-329HM (out) | L119: None | M119: None | N119: SBP-300WM1 W/ SBP-317HM only | O119: SBP-300WM | P119: SBP-390WM1 | Q119: SBP-390WM2 | R119: SBP-300CM | S119: SBP-302CM /-12/-36 + SBP-302CMA/B/S Optional SBP-2CTW1 | T119: SBP-302-CMAS | U119: SBP-300LM | V119: SBP-300PM | W119: SBP-300B | X119: SBP-300NB | Y119: SBP-300KM | Z119: None | AA119: None | AB119: None | AC119: None | AD119: None | AE119: None | AF119: None | AG119: None | AH119: None | AI119: None | AJ119: None | AK119: None | AL119: None | AM119: None | AN119: - | AO119: Included | AP119: Single, Double, 4" Octagon, 4" Square | AQ119: None | AR119: =VLOOKUP(A:A,EOL!A:B,2,FALSE) -> <-Camera is EOL
A120: PNM-9084QZ | B120: M4 | C120: Included | AN120: - | AO120: Included | AP120: Single, Double, 4" Octagon, 4" Square | AQ120: None | AR120: =VLOOKUP(A:A,EOL!A:B,2,FALSE) -> <-Camera is EOL
A121: PNM-9084QZ1 | B121: M4 | C121: Included | AN121: - | AO121: Included | AP121: Single, Double, 4" Octagon, 4" Square | AQ121: None | AR121: =VLOOKUP(A:A,EOL!A:B,2,FALSE) -> #N/A
A122: PNM-9084RQZ | B122: M5 | C122: Included | D122: None | F122: None | G122: None | H122: None | I122: None | J122: None | K122: SBP-317HMW | L122: None | M122: None | AO122: Included | AP122: Single, Double, 4" Octagon, 4" Square | AQ122: None | AR122: =VLOOKUP(A:A,EOL!A:B,2,FALSE) -> <-Camera is EOL
A123: PNM-9084RQZ1 | B123: M5 | C123: Included | D123: None | F123: None | G123: None | H123: None | I123: None | J123: None | K123: SBP-317HMW | L123: None | M123: None | AO123: Included | AP123: Single, Double, 4" Octagon, 4" Square | AQ123: None | AR123: =VLOOKUP(A:A,EOL!A:B,2,FALSE) -> #N/A
A124: PNM-9085RQZ | B124: M5 | C124: Included | D124: None | F124: None | G124: None | H124: None | I124: None | J124: None | K124: SBP-317HMW | L124: None | M124: None | AO124: Included | AP124: Single, Double, 4" Octagon, 4" Square | AQ124: None | AR124: =VLOOKUP(A:A,EOL!A:B,2,FALSE) -> <-Camera is EOL
A125: PNM-9085RQZ1 | B125: M5 | C125: Included | D125: None | F125: None | G125: None | H125: None | I125: None | J125: None | K125: SBP-317HMW | L125: None | M125: None | AN125: - | AO125: Included | AP125: Single, Double, 4" Octagon, 4" Square | AQ125: None | AR125: =VLOOKUP(A:A,EOL!A:B,2,FALSE) -> #N/A
A126: PNM-9320VQP | B126: P05 | C126: None | D126: None | E126: None | F126: None | G126: None | H126: None | I126: None | J126: None | K126: None | L126: None | M126: None | N126: None | O126: SBP-300WM | P126: SBP-390WM1 | Q126: SBP-390WM2 | R126: SBP-300CM | S126: SBP-302CM /-12/-36 + SBP-302CMA/B/S Optional SBP-2CTW1 | T126: SBP-302-CMAS | U126: SBP-300LM | V126: SBP-300PM | W126: SBP-300B | X126: SBP-300NB | Y126: SBP-300KM | Z126: None | AA126: SLA-2M2400P | AB126: SLA-2M2800P | AC126: SLA-2M3600P | AD126: SLA-2M6000P | AE126: SLA-2M1200P | AF126: SLA-5M3700P | AG126: SLA-5M4600P | AH126: SLA-5M7000P | AI126: None | AJ126: None | AK126: None | AL126: None | AM126: None | AN126: - | AO126: - | AP126: - | AQ126: None | AR126: =VLOOKUP(A:A,EOL!A:B,2,FALSE) -> <-Camera is EOL
A127: PNM-9321VQP | B127: P05 | C127: None | D127: None | E127: None | F127: None | G127: None | H127: None | I127: None | J127: None | K127: None | L127: None | M127: None | N127: None | O127: SBP-300WM | P127: SBP-390WM1 | Q127: SBP-390WM2 | R127: SBP-300CM | S127: SBP-302CM /-12/-36 + SBP-302CMA/B/S Optional SBP-2CTW1 | T127: SBP-302-CMAS | U127: SBP-300LM | V127: SBP-300PM | W127: SBP-300B | X127: SBP-300NB | Y127: SBP-300KM | Z127: None | AA127: SLA-2M2400P | AB127: SLA-2M2800P | AC127: SLA-2M3600P | AD127: SLA-2M6000P | AE127: SLA-2M1200P | AF127: SLA-5M3700P | AG127: SLA-5M4600P | AH127: SLA-5M7000P | AI127: None | AJ127: None | AK127: None | AL127: None | AM127: None | AN127: - | AO127: - | AP127: - | AQ127: None | AR127: =VLOOKUP(A:A,EOL!A:B,2,FALSE) -> <-Camera is EOL
A128: PNM-9322VQP | B128: P06 | C128: None | D128: None | E128: None | F128: None | G128: None | H128: None | I128: None | J128: None | K128: None | O128: SBP-300WMW | P128: SBP-390WMW1 | Q128: SBP-390WMW2 | R128: SBP-300CMW | T128: SBP-302-CMASW | U128: SBP-300LMW | V128: SBP-300PMW | W128: SBP-300BW | X128: SBP-300NBW | Y128: SBP-300KMW | AA128: SLA-2M2400P | AB128: SLA-2M2800P | AC128: SLA-2M3600P | AD128: SLA-2M6000P | AE128: SLA-2M1200P | AF128: SLA-5M3700P | AG128: SLA-5M4600P | AH128: SLA-5M7000P | AI128: None | AJ128: None | AK128: None | AL128: None | AM128: None | AQ128: None | AR128: =VLOOKUP(A:A,EOL!A:B,2,FALSE) -> <-Camera is EOL
...

Sheet Images
A1: Group/ Acc
A2: B01
A3: B02
A4: B03
A5: B05
A6: B11
A7: B13
A8: TNO-7180
A9: B14
A10: BackBox1
A11: BackBox2
A12: BO2
... A316: Blank

Sheet Maps
A1: Camera | B1: Group(1) | D1: =VLOOKUP('Mount Selection'!C3,Accessories!A1:B867,2,0) -> WN9-B | E1: =VLOOKUP(D1,B2:F1057,5,0) -> M0
A2: HCO-6070R | B2: B01 | D2: M0 | F2: M0 | K2: M1
A3: QNO-6082R | B3: B02 | D3: M0 | F3: M0
A4: XNO-6010R | B4: B03 | C4: XNP-6320HS | F4: M0 | K4: M0
A5: SNO-5084R | B5: B05 | F5: M0 | K5: M2
A6: XNO-L6080R | B6: B14 | F6: M0 | K6: M3
A7: PNO-9080R | B7: B11 | F7: M0 | K7: M4
A8: XNO-6080R | B8: B13 | F8: M0 | K8: M11
A9: SNB-5004 | B9: BO2 | F9: M0 | K9: M12
A10: SNB-6005 | B10: BO25 | F10: M0 | K10: M5
A11: HCB-6000 | B11: BO21 | F11: M0 | K11: M6
A12: SNB-8000 | B12: BO5 | F12: M0
A13: SNZ-6320 | B13: BZ1 | F13: M0
A14: XNB-6001 | B14: C01 | F14: M0
A15: SNB-6010B | B15: CO2 | F15: M0
A16: SND-5084 | B16: D3 | F16: M1
A17: SCD-5083B | B17: D4-0 | F17: M1
A18: SCD-5083B | B18: D4 | F18: M1
A19: LND-6071R | B19: D42-0 | F19: M1
A20: LND-6071R | B20: D42 | F20: M1
A21: QND-6082R | B21: D42W1 | F21: M2
A22: QND-8080R | B22: D42W-0 | F22: M2
A23: HCD-7010R | B23: D5-0 | F23: M1
... A92: XNV-6085 | B92: PH71 | F92: M1
B93: PH61 | F93: M1
A94: PNM-9000VQ | B94: M3 | F94: M1
A95: PNM-9002VQ | B95: M3-1 | F95: M2
B96: QQ2 | F96: M0
A97: XNP-6040H | B97: v52 | F97: M1
A98: XNP-6040HW | B98: V53 | F98: M6
B99: QT | F99: M1
B100: QT2 | F100: M2
A101: PNM-9320VQP | B101: P05 | F101: M0
A102: PNM-9322VQP | B102: P06 | F102: M4
A103: TNU-6320 | B103: T1 | F103: M0
A104: TNU-4041T | B104: T2 | F104: M0
A105: SMT-2701PVM | B105: PVMB | F105: M0
A106: SMT-2702PVM | B106: PVMW | F106: M0
A107: SMT-3234 | B107: SMT1 | F107: M0
A108: SMT-2721D | B108: PVM1 | F108: M0
A109: XNV-8081Z | B109: XP1 | F109: M2
A110: XND-8081VZ | B110: XP2 | F110: M2
A111: XND-8081FZ | B111: XP3 | F111: M0
A112: XNP-6550RH | B112: PH62 | F112: M1
... A142: XND-9082RV | B142: WN7-1 | F142: M6
A143: XND-9082RV | F143: M2
A144: XNO-6083R | B144: WN7-8 | F144: M2
A145: XNO-C6083R | B145: WN7-9 | F145: M6
A146: XNO-A8084R | B146: WN7-9A | F146: M2
A147: XND-C9083RV | B147: WN7-C1 | F147: M6
A148: XNV-C9083R | B148: WN7-C2 | F148: M6
A149: XND-A8084RV | B149: WN7-C3 | F149: M2
A150: XNV-A8084R | B150: WN7-C4 | F150: M2
A151: PNV-A9082RZ | B151: WN7-C6 | F151: M2
A152: PND-A7082RV | B152: WN7-C5 | F152: M2
A153: XNB-9002 | B153: WN7-2 | F153: M0
A154: XNO-9082R | B154: WN7-3 | F154: M0
A155: XNO-8082R | B155: WN7-3 | F155: M0
... A220: - | B220: Blank | F220: M0

Sheet EOL
A1: XNB-8003 | B1: <-Camera is EOL
A2: XNP-6040H | B2: <-Camera is EOL
A3: TNO-P9073EPT1-Z | B3: <-Camera is EOL
A4: TNU-6321 | B4: <-Camera is EOL
A5: PNB-A6001 | B5: <-Camera is EOL
A6: PNB-A9001 | B6: <-Camera is EOL
A7: TNU-6321 | B7: <-Camera is EOL
A8: PNB-A9091RLPH | B8: <-Camera is EOL
A9: XND-8081RV | B9: <-Camera is EOL
A10: XNB-9003 | B10: <-Camera is EOL
A11: XNB-8000 | B11: <-Camera is EOL
A12: HCD-7070RA | B12: <-Camera is EOL
... A52: SPB-INW13 | B52: <-Camera is EOL
A53: ='[2]EOL Product'!$C6 -> SPU-60240 | B53: <-Camera is EOL
A54: ='[2]EOL Product'!$C7 -> XRN-3210RB2 | B54: <-Camera is EOL
A55: ='[2]EOL Product'!$C8 -> XRN-3210RB2-8TB | B55: <-Camera is EOL
A56: ='[2]EOL Product'!$C9 -> XRN-3210RB2-16TB | B56: <-Camera is EOL
A57: ='[2]EOL Product'!$C10 -> XRN-3210RB2-24TB | B57: <-Camera is EOL
A58: ='[2]EOL Product'!$C11 -> XRN-3210RB2-32TB | B58: <-Camera is EOL
A59: ='[2]EOL Product'!$C12 -> XRN-3210RB2-48TB | B59: <-Camera is EOL
A60: ='[2]EOL Product'!$C13 -> XRN-3210RB2-64TB | B60: <-Camera is EOL
A61: ='[2]EOL Product'!$C14 -> XRN-3210B2 | B61: <-Camera is EOL
A62: ='[2]EOL Product'!$C15 -> XRN-3210B2-12TB | B62: <-Camera is EOL
A63: ='[2]EOL Product'!$C16 -> XRN-3210B2-16TB | B63: <-Camera is EOL
A64: ='[2]EOL Product'!$C17 -> XRN-3210B2-24TB | B64: <-Camera is EOL
... A2082: ='[2]EOL Product'!$C2035 -> 0 | B2082: <-Camera is EOL
