Workbook
Name Camera_Pic: INDEX(Images!$B:$B,MATCH(VLOOKUP('WAVE Channel Calculator'!#REF!,Accessories!$A:$B,2,0),Images!$A:$A,0))
Name Camera_Pic: INDEX(Images!$B:$B,MATCH(VLOOKUP('Mount Selection'!$C$3,Accessories!$A:$B,2,0),Images!$A:$A,0))
Name Extension_pipes: #REF!
Name Extension_pipes: #REF!
Name Maps: INDEX(Maps!$C:$C,MATCH(Maps!$D$1, Maps!$B:$B,0))
Name MAPS2: INDEX(Maps!$L:$L,MATCH(Maps!$E$1, Maps!$K:$K,0))
Name None: #REF!
Name None: #REF!
Name product_pic1: INDEX(Images!$B:$B,MATCH(VLOOKUP('WAVE Channel Calculator'!#REF!,Accessories!$A:$B,2,0),Images!$A:$A,0))
Name product_pic1: INDEX(Images!$B:$B,MATCH(VLOOKUP('Mount Selection'!$C$3,Accessories!$A:$B,2,0),Images!$A:$A,0))
Name product_pic2: INDEX([1]Images!$B:$B,MATCH(VLOOKUP('[1]Mount Selection'!$C$3,[1]Accessories!$A:$B,2,0),[1]Images!$A:$A,0))
Name Telescopic_Pendant: #REF!
Name Telescopic_Pendant: #REF!
Name WhiteAccessory: INDIRECT('WAVE Channel Calculator'!$F$18)
Name WhiteAccessory: INDIRECT('Mount Selection'!#REF!)

Sheet Release Notes
C3: Release Date : 3/1/2026
C6: Mount Selection Tool
C8: Version : 26.3.01
C10: New in this release:
C12: New in this release:
C13: 1 | D13: XNB-A8004 | I13: 21
C14: 2 | D14: XNB-A9004 | I14: 22
C15: 3 | D15: XND-A8085RV | I15: 23
C16: 4 | D16: XND-A9085RV | I16: 24
C17: 5 | D17: XNV-A8085R | I17: 25
C18: 6 | D18: XNV-A9085R | I18: 26
C19: 7 | I19: 27
C20: 8 | I20: 28
C21: 9 | I21: 29
C22: 10 | I22: 30
C23: 11 | I23: 31
C24: 12 | I24: 32
C25: 13 | I25: 33
C26: 14 | I26: 34
C27: 15 | I27: 35
C28: 16 | I28: 36
C29: 17 | I29: 37
C30: 18 | I30: 38
... C32: 20 | I32: 40
C41: Fixes:
C42: 1
C43: 2
C44: 3

Sheet Mount Selection
C1: Camera
D2: =_xlfn.IFNA(VLOOKUP(C3,Accessories!1:1048576,44,FALSE), "")
B3: Choose a product -----> | C3: XNB-A8004
E7: The Below is For Direct Camera Mounting ONLY:
E8: Compatible Backplate Adapter: | F8: =VLOOKUP(C3,Accessories!A:C,3,0) -> None
E9: =IF($C$28="","","Gangbox Compatibility with no adaptor:") -> Gangbox Compatibility with no adaptor: | F9: =VLOOKUP($C$3,Accessories!$A$1:$AP$711,40,0) -> -
E10: =IF($C$28="","","Gangbox Compatibility with adapter:") -> Gangbox Compatibility with adapter: | F10: =VLOOKUP($C$3,Accessories!$A$1:$AP$711,42,0) -> None
E11: Please note that Gang box compatibility doesn't Guarantee that the back plate or camera will cover the whole box,
E12: As the corner of the electrical box in some cases might be showing
E16: Model # | F16: Weight Limit
E17: SBP-250WMW | F17: 44lbs
E18: SBP-400WMW | F18: 44lbs
E19: SBP-050NBW | F19: 11lbs
E20: SBP-050PMW | F20: 33lbs
E21: SBP-150NBW | F21: 33lbs
E22: SBP-150PMW | F22: 88lbs
B26: The Below is For Direct Camera Mounting ONLY:
B27: Compatible Backplate Adapter: | C27: =VLOOKUP(C3,Accessories!A:C,3,0) -> None
B28: =IF($C$28="","","Gangbox Compatibility with no adaptor:") -> Gangbox Compatibility with no adaptor: | C28: =VLOOKUP($C$3,Accessories!$A$1:$AP$711,40,0) -> -
B29: =IF($C$28="","","Gangbox Compatibility with adapter:") -> Gangbox Compatibility with adapter: | C29: =VLOOKUP($C$3,Accessories!$A$1:$AP$711,42,0) -> None
B30: Please note that Gang box compatibility doesn't Guarantee that the back plate or camera will cover the whole box,
B31: As the corner of the electrical box in some cases might be showing

Sheet WAVE Channel Calculator
C1: Input camera quantity below:
B2: WAVE Channel Calculator | C2: 300
B4: SKU | C4: QTY needed
B5: WAVE-PRO-48 | C5: =FLOOR(C2/48,1) -> 6
B6: WAVE-PRO-24 | C6: =FLOOR(MOD(C2,48)/24,1) -> 0
B7: WAVE-PRO-16 | C7: =FLOOR(MOD(MOD(C2,48),24)/16,1) -> 0
B8: WAVE-PRO-08 | C8: =FLOOR(MOD(MOD(MOD(C2,48),24),16)/8,1) -> 1
B9: WAVE-PRO-05 | C9: =FLOOR(MOD(MOD(MOD(MOD(C2,48),24),16),8)/5,1) -> 0
B10: WAVE-PRO-04 | C10: =FLOOR(MOD(MOD(MOD(MOD(MOD(C2,48),24),16),8),5)/4,1) -> 1
B11: WAVE-PRO-01 | C11: =FLOOR(MOD(MOD(MOD(MOD(MOD(MOD(C2,48),24),16),8),5),4)/1,1) -> 0

Sheet Accessories
A1: Camera | B1: Group(1) | C1: Backplateadaptor / Protection(2) | D1: BACKBOX(3) | E1: Housing0(4) | F1: Housing1(5) | G1: Housing2(6) | H1: Housing3(7) | I1: Housing4(8) | J1: SmokedDomeCover(9) | K1: Mount-Hanging(10) | L1: Mount-Tilt(11) | M1: WallMount1(12) | N1: WallMount2(13) | O1: WallMount6(14) | P1: WallMount2(15) | Q1: WallMount6(16) | R1: Mount-Ceiling1(17) | S1: Mount-Ceiling2(18) | T1: Mount-Ceiling2(18) | U1: Mount-Parapet (19) | V1: Mount-Pole(18) | W1: Mount-WallMountBase(19) | X1: INSTALLATIONBOX(20) | Y1: Mount-Corner(21) | Z1: Mount-Fixed(22) | AA1: LensOptions1(23) | AB1: LensOptions2(24) | AC1: LensOptions3(25) | AD1: LensOptions4(26) | AE1: LensOptions5(27) | AF1: LensOptions6(28) | AG1: LensOptions7(29) | AH1: LensOptions8(30) | AI1: LensOptions9(31) | AJ1: WeatherCap(32) | AK1: Fiber(33) | AL1: Washer(34) | AM1: Black Housing (35) | AN1: compatibility, direct mount | AO1: Gangplate adapter | AP1: compatibility, with gangplate adapter | AQ1: IR option | AR1: Camera EOL Check
A2: ACE-6020R | B2: A8 | C2: None | AN2: None | AO2: None | AP2: None | AR2: =VLOOKUP(A:A,EOL!A:B,2,FALSE) -> #N/A
A3: ACE-8020R | B3: A8 | C3: None | AN3: None | AO3: None | AP3: None | AR3: =VLOOKUP(A:A,EOL!A:B,2,FALSE) -> #N/A
A4: ACO-6020R | B4: A7 | C4: SBO-090GP (sold separately) | AN4: None | AO4: None | AP4: Single, Double, 4" Octagon | AR4: =VLOOKUP(A:A,EOL!A:B,2,FALSE) -> #N/A
A5: ACO-8020R | B5: A7 | C5: SBO-090GP (sold separately) | AN5: None | AO5: None | AP5: Single, Double, 4" Octagon | AR5: =VLOOKUP(A:A,EOL!A:B,2,FALSE) -> #N/A
A6: ACV-8080R | B6: A9 | C6: None | AN6: None | AO6: None | AP6: None | AR6: =VLOOKUP(A:A,EOL!A:B,2,FALSE) -> #N/A
A7: ACV-8081R | B7: A9 | C7: None | AN7: None | AO7: None | AP7: None | AR7: =VLOOKUP(A:A,EOL!A:B,2,FALSE) -> #N/A
A8: ANE-L6012R | B8: A3 | C8: SBD-110GP1 (sold separately) | AN8: None | AO8: None | AP8: Single, Double, 4" Octagon | AR8: =VLOOKUP(A:A,EOL!A:B,2,FALSE) -> #N/A
A9: ANE-L7012L | B9: FEW3 | C9: SBD-110GP1 (sold separately) | D9: SBV-140BW | E9: None | F9: None | G9: None | H9: None | I9: None | J9: None | K9: None | L9: SBV-140TMW | M9: SBP-125WMW | N9: None | O9: None | P9: None | Q9: None | R9: None | S9: None | T9: None | U9: None | V9: SBD-140PMW | W9: None | X9: None | Y9: None | Z9: None | AA9: None | AB9: None | AC9: None | AD9: None | AE9: None | AF9: None | AG9: None | AH9: None | AI9: None | AJ9: None | AK9: None | AL9: None | AM9: None | AN9: - | AO9: None | AP9: Single, Double, 4" Octagon | AQ9: None | AR9: =VLOOKUP(A:A,EOL!A:B,2,FALSE) -> #N/A
A10: ANE-L7012R | B10: A3 | C10: SBD-110GP1 (sold separately) | AN10: None | AO10: None | AP10: Single, Double, 4" Octagon | AR10: =VLOOKUP(A:A,EOL!A:B,2,FALSE) -> #N/A
A11: ANO-L6012R | B11: A2 | C11: SBO-090GP (sold separately) | AN11: None | AO11: None | AP11: None | AR11: =VLOOKUP(A:A,EOL!A:B,2,FALSE) -> #N/A
A12: ANO-L6022R | B12: A2 | C12: SBO-090GP (sold separately) | AN12: None | AO12: None | AP12: None | AR12: =VLOOKUP(A:A,EOL!A:B,2,FALSE) -> #N/A
A13: ANO-L6082R | B13: A2 | C13: SBO-090GP (sold separately) | AN13: None | AO13: None | AP13: None | AR13: =VLOOKUP(A:A,EOL!A:B,2,FALSE) -> #N/A
A14: ANO-L7012R | B14: A2 | C14: SBO-090GP (sold separately) | AN14: None | AO14: None | AP14: Single, Double, 4" Octagon | AR14: =VLOOKUP(A:A,EOL!A:B,2,FALSE) -> #N/A
A15: ANO-L7022R | B15: A2 | C15: SBO-090GP (sold separately) | AN15: None | AO15: None | AP15: Single, Double, 4" Octagon | AR15: =VLOOKUP(A:A,EOL!A:B,2,FALSE) -> #N/A
A16: ANO-L7082R | B16: A2 | C16: SBO-090GP (sold separately) | AN16: None | AO16: None | AP16: Single, Double, 4" Octagon | AR16: =VLOOKUP(A:A,EOL!A:B,2,FALSE) -> #N/A
A17: ANV-L6012R | B17: A0 | C17: Included | AN17: None | AO17: None | AP17: Single, Double, 4" Octagon | AR17: =VLOOKUP(A:A,EOL!A:B,2,FALSE) -> #N/A
A18: ANV-L6023R | B18: A1 | C18: None | AN18: None | AO18: None | AP18: None | AR18: =VLOOKUP(A:A,EOL!A:B,2,FALSE) -> #N/A
A19: ANV-L6082R | B19: A6 | C19: Included | AN19: None | AO19: None | AP19: Single, Double, 4" Octagon | AR19: =VLOOKUP(A:A,EOL!A:B,2,FALSE) -> #N/A
A20: ANV-L7012R | B20: A4 | C20: Included | AN20: None | AO20: None | AP20: Single, Double, 4" Octagon | AR20: =VLOOKUP(A:A,EOL!A:B,2,FALSE) -> #N/A
A21: ANV-L7082R | B21: A6 | C21: Included | AN21: None | AO21: None | AP21: Single, Double, 4" Octagon | AR21: =VLOOKUP(A:A,EOL!A:B,2,FALSE) -> #N/A
A22: HCB-6000 | B22: BO21 | C22: None | D22: None | E22: None | F22: SHB-4300H1 | G22: None | H22: SHB-4200 | I22: SHB-4200H | J22: None | K22: None | L22: None | M22: STB-4150V | N22: None | O22: None | P22: None | Q22: None | R22: None | S22: None | T22: None | U22: None | V22: None | W22: None | X22: None | Y22: None | Z22: None | AA22: SLA-M2890DN | AB22: None | AC22: SLA-F-M226DN | AD22: SLA-F-M1550DN | AE22: None | AF22: None | AG22: None | AH22: None | AI22: None | AJ22: None | AK22: None | AL22: None | AM22: None | AN22: - | AO22: - | AP22: - | AQ22: None | AR22: =VLOOKUP(A:A,EOL!A:B,2,FALSE) -> #N/A
A23: HCB-6001 | B23: BO21 | C23: None | D23: None | E23: None | F23: SHB-4300H1 | G23: None | H23: SHB-4200 | I23: SHB-4200H | J23: None | K23: None | L23: None | M23: STB-4150V | N23: None | O23: None | P23: None | Q23: None | R23: None | S23: None | T23: None | U23: None | V23: None | W23: None | X23: None | Y23: None | Z23: None | AA23: SLA-M2890DN | AB23: None | AC23: SLA-F-M226DN | AD23: SLA-F-M1550DN | AE23: None | AF23: None | AG23: None | AH23: None | AI23: None | AJ23: None | AK23: None | AL23: None | AM23: None | AN23: - | AO23: - | AP23: - | AQ23: None | AR23: =VLOOKUP(A:A,EOL!A:B,2,FALSE) -> #N/A
A24: HCB-7000 | B24: BO21 | C24: None | D24: None | E24: None | F24: SHB-4300H1 | G24: None | H24: SHB-4200 | I24: SHB-4200H | J24: None | K24: None | L24: None | M24: STB-4150V | N24: None | O24: None | P24: None | Q24: None | R24: None | S24: None | T24: None | U24: None | V24: None | W24: None | X24: None | Y24: None | Z24: None | AA24: SLA-M2890DN | AB24: None | AC24: SLA-F-M226DN | AD24: SLA-F-M1550DN | AE24: None | AF24: None | AG24: None | AH24: None | AI24: None | AJ24: None | AK24: None | AL24: None | AM24: None | AN24: - | AO24: - | AP24: - | AQ24: None | AR24: =VLOOKUP(A:A,EOL!A:B,2,FALSE) -> <-Camera is EOL
A25: HCB-7000A | B25: BO21 | C25: None | D25: None | E25: None | F25: SHB-4300H1 | G25: None | H25: SHB-4200 | I25: SHB-4200H | J25: None | K25: None | L25: None | M25: STB-4150V | N25: None | AC25: SLA-F-M226DN | AD25: SLA-F-M1550DN | AE25: None | AF25: None | AG25: None | AH25: None | AI25: None | AJ25: None | AK25: None | AL25: None | AM25: None | AN25: - | AO25: - | AP25: - | AQ25: None | AR25: =VLOOKUP(A:A,EOL!A:B,2,FALSE) -> #N/A
A26: HCD-6010 | B26: D5-0 | C26: SBD-110GP (sold separately) | D26: None | E26: None | F26: None | G26: None | H26: None | I26: None | J26: SPB-IND12 | K26: SBP-300HM7 | L26: None | M26: SBP-120WM | N26: SBP-300WM1 | O26: SBP-300WM | P26: SBP-390WM1 | Q26: SBP-390WM2 | R26: SBP-300CM | S26: SBP-302CM /-12/-36 + SBP-302CMA/B/S Optional SBP-2CTW1 | T26: SBP-302-CMAS | U26: SBP-300LM | V26: SBP-300PM | W26: SBP-300B | X26: SBP-300NB | Y26: SBP-300KM | Z26: None | AA26: None | AB26: None | AC26: None | AD26: None | AE26: None | AF26: None | AG26: None | AH26: None | AI26: None | AJ26: None | AK26: None | AL26: None | AM26: SPG-IND12B | AN26: Double | AO26: SBD-110GP | AP26: Single, Double, 4" Octagon | AQ26: None | AR26: =VLOOKUP(A:A,EOL!A:B,2,FALSE) -> #N/A
A27: HCD-6020R | B27: D5-0 | C27: SBD-110GP (sold separately) | D27: None | E27: None | F27: None | G27: None | H27: None | I27: None | J27: SPB-IND12 | K27: SBP-300HM7 | L27: None | M27: SBP-120WM | N27: SBP-300WM1 | O27: SBP-300WM | P27: SBP-390WM1 | Q27: SBP-390WM2 | R27: SBP-300CM | S27: SBP-302CM /-12/-36 + SBP-302CMA/B/S Optional SBP-2CTW1 | T27: SBP-302-CMAS | U27: SBP-300LM | V27: SBP-300PM | W27: SBP-300B | X27: SBP-300NB | Y27: SBP-300KM | Z27: None | AA27: None | AB27: None | AC27: None | AD27: None | AE27: None | AF27: None | AG27: None | AH27: None | AI27: None | AJ27: None | AK27: None | AL27: None | AM27: SPG-IND12B | AN27: Double | AO27: SBD-110GP | AP27: Single, Double, 4" Octagon | AQ27: None | AR27: =VLOOKUP(A:A,EOL!A:B,2,FALSE) -> #N/A
A28: HCD-6070R | B28: D4-0 | C28: SBD-110GP1 (sold separately) | D28: None | E28: SHD-3000F2 | F28: None | G28: None | H28: None | I28: None | J28: SPB-IND6 | K28: SBP-122HM | L28: None | M28: SBP-120WM | N28: SBP-300WM1 | O28: SBP-300WM | P28: SBP-390WM1 | Q28: SBP-390WM2 | R28: SBP-300CM | S28: SBP-302CM /-12/-36 + SBP-302CMA/B/S Optional SBP-2CTW1 | T28: SBP-302-CMAS | U28: SBP-300LM | V28: SBP-300PM | W28: SBP-300B | X28: SBP-300NB | Y28: SBP-300KM | Z28: None | AA28: None | AB28: None | AC28: None | AD28: None | AE28: None | AF28: None | AG28: None | AH28: None | AI28: None | AJ28: None | AK28: None | AL28: None | AM28: None | AN28: Double | AO28: SBD-120GP | AP28: Single, Double, 4" Octagon | AQ28: None | AR28: =VLOOKUP(A:A,EOL!A:B,2,FALSE) -> #N/A
A29: HCD-6080R | B29: D4-0 | C29: SBD-110GP1 (sold separately) | D29: None | E29: SHD-3000F2 | F29: None | G29: None | H29: None | I29: None | J29: SPB-IND6 | K29: SBP-122HM | L29: None | M29: SBP-120WM | N29: SBP-300WM1 | O29: SBP-300WM | P29: SBP-390WM1 | Q29: SBP-390WM2 | R29: SBP-300CM | S29: SBP-302CM /-12/-36 + SBP-302CMA/B/S Optional SBP-2CTW1 | T29: SBP-302-CMAS | U29: SBP-300LM | V29: SBP-300PM | W29: SBP-300B | X29: SBP-300NB | Y29: SBP-300KM | Z29: None | AA29: None | AB29: None | AC29: None | AD29: None | AE29: None | AF29: None | AG29: None | AH29: None | AI29: None | AJ29: None | AK29: None | AL29: None | AM29: None | AN29: Double | AO29: SBD-120GP | AP29: Single, Double, 4" Octagon | AQ29: None | AR29: =VLOOKUP(A:A,EOL!A:B,2,FALSE) -> #N/A
A30: HCD-7010R | B30: D5 | C30: SBD-110GP (sold separately) | D30: None | E30: None | F30: None | G30: None | H30: None | I30: None | J30: SPB-IND12 | K30: SBP-300HM7 | L30: None | M30: SBP-120WM | N30: SBP-300WM1 | O30: SBP-300WM | P30: SBP-390WM1 | Q30: SBP-390WM2 | R30: SBP-300CM | S30: SBP-302CM /-12/-36 + SBP-302CMA/B/S Optional SBP-2CTW1 | T30: SBP-302-CMAS | U30: SBP-300LM | V30: SBP-300PM | W30: SBP-300B | X30: SBP-300NB | Y30: SBP-300KM | Z30: None | AA30: None | AB30: None | AC30: None | AD30: None | AE30: None | AF30: None | AG30: None | AH30: None | AI30: None | AJ30: None | AK30: None | AL30: None | AM30: SPG-IND12B | AN30: Double | AO30: SBD-110GP | AP30: Single, Double, 4" Octagon | AQ30: None | AR30: =VLOOKUP(A:A,EOL!A:B,2,FALSE) -> <-Camera is EOL
A31: HCD-7010RA | B31: D5 | C31: SBD-110GP (sold separately) | D31: None | E31: None | F31: None | G31: None | H31: None | I31: None | J31: SPB-IND12 | K31: SBP-300HM7 | L31: None | M31: SBP-120WM | N31: SBP-300WM1 | O31: SBP-300WM | P31: SBP-390WM1 | Q31: SBP-390WM2 | R31: SBP-300CM | S31: SBP-302CM /-12/-36 + SBP-302CMA/B/S Optional SBP-2CTW1 | T31: SBP-302-CMAS | U31: SBP-300LM | V31: SBP-300PM | W31: SBP-300B | X31: SBP-300NB | Y31: SBP-300KM | Z31: None | AA31: None | AB31: None | AC31: None | AD31: None | AE31: None | AF31: None | AG31: None | AH31: None | AI31: None | AJ31: None | AK31: None | AL31: None | AM31: SPG-IND12B | AN31: Double | AO31: SBD-110GP | AP31: Single, Double, 4" Octagon | AQ31: None | AR31: =VLOOKUP(A:A,EOL!A:B,2,FALSE) -> #N/A
A32: HCD-7020R | B32: D5 | C32: SBD-110GP (sold separately) | D32: None | E32: None | F32: None | G32: None | H32: None | I32: None | J32: SPB-IND12 | K32: SBP-300HM7 | L32: None | M32: SBP-120WM | N32: SBP-300WM1 | O32: SBP-300WM | P32: SBP-390WM1 | Q32: SBP-390WM2 | R32: SBP-300CM | S32: SBP-302CM /-12/-36 + SBP-302CMA/B/S Optional SBP-2CTW1 | T32: SBP-302-CMAS | U32: SBP-300LM | V32: SBP-300PM | W32: SBP-300B | X32: SBP-300NB | Y32: SBP-300KM | Z32: None | AA32: None | AB32: None | AC32: None | AD32: None | AE32: None | AF32: None | AG32: None | AH32: None | AI32: None | AJ32: None | AK32: None | AL32: None | AM32: SPG-IND12B | AN32: Double | AO32: SBD-110GP | AP32: Single, Double, 4" Octagon | AQ32: None | AR32: =VLOOKUP(A:A,EOL!A:B,2,FALSE) -> <-Camera is EOL
A33: HCD-7020RA | B33: D5 | C33: SBD-110GP (sold separately) | D33: None | E33: None | F33: None | G33: None | H33: None | I33: None | J33: SPB-IND12 | K33: SBP-300HM7 | L33: None | M33: SBP-120WM | N33: SBP-300WM1 | O33: SBP-300WM | P33: SBP-390WM1 | Q33: SBP-390WM2 | R33: SBP-300CM | S33: SBP-302CM /-12/-36 + SBP-302CMA/B/S Optional SBP-2CTW1 | T33: SBP-302-CMAS | U33: SBP-300LM | V33: SBP-300PM | W33: SBP-300B | X33: SBP-300NB | Y33: SBP-300KM | Z33: None | AA33: None | AB33: None | AC33: None | AD33: None | AE33: None | AF33: None | AG33: None | AH33: None | AI33: None | AJ33: None | AK33: None | AL33: None | AM33: SPG-IND12B | AN33: Double | AO33: SBD-110GP | AP33: Single, Double, 4" Octagon | AQ33: None | AR33: =VLOOKUP(A:A,EOL!A:B,2,FALSE) -> <-Camera is EOL
A34: HCD-7030R | B34: D5 | C34: SBD-110GP (sold separately) | D34: None | E34: None | F34: None | G34: None | H34: None | I34: None | J34: SPB-IND12 | K34: SBP-300HM7 | L34: None | M34: SBP-120WM | N34: SBP-300WM1 | O34: SBP-300WM | P34: SBP-390WM1 | Q34: SBP-390WM2 | R34: SBP-300CM | S34: SBP-302CM /-12/-36 + SBP-302CMA/B/S Optional SBP-2CTW1 | T34: SBP-302-CMAS | U34: SBP-300LM | V34: SBP-300PM | W34: SBP-300B | X34: SBP-300NB | Y34: SBP-300KM | Z34: None | AA34: None | AB34: None | AC34: None | AD34: None | AE34: None | AF34: None | AG34: None | AH34: None | AI34: None | AJ34: None | AK34: None | AL34: None | AM34: SPG-IND12B | AN34: Double | AO34: SBD-110GP | AP34: Single, Double, 4" Octagon | AQ34: None | AR34: =VLOOKUP(A:A,EOL!A:B,2,FALSE) -> <-Camera is EOL
A35: HCD-7030RA | B35: D5 | C35: SBD-110GP (sold separately) | D35: None | E35: None | F35: None | G35: None | H35: None | I35: None | J35: SPB-IND12 | K35: SBP-300HM7 | L35: None | M35: SBP-120WM | N35: SBP-300WM1 | O35: SBP-300WM | P35: SBP-390WM1 | Q35: SBP-390WM2 | R35: SBP-300CM | S35: SBP-302CM /-12/-36 + SBP-302CMA/B/S Optional SBP-2CTW1 | T35: SBP-302-CMAS | U35: SBP-300LM | V35: SBP-300PM | W35: SBP-300B | X35: SBP-300NB | Y35: SBP-300KM | Z35: None | AA35: None | AB35: None | AC35: None | AD35: None | AE35: None | AF35: None | AG35: None | AH35: None | AI35: None | AJ35: None | AK35: None | AL35: None | AM35: SPG-IND12B | AN35: Double | AO35: SBD-110GP | AP35: Single, Double, 4" Octagon | AQ35: None | AR35: =VLOOKUP(A:A,EOL!A:B,2,FALSE) -> <-Camera is EOL
A36: HCD-7070R | B36: D4-0 | C36: SBD-120GP (sold separately) | D36: None | E36: SHD-3000F2 | F36: None | G36: None | H36: None | I36: None | J36: SPB-IND6 | K36: SBP-122HM | L36: None | M36: SBP-120WM | N36: SBP-300WM1 | O36: SBP-300WM | P36: SBP-390WM1 | Q36: SBP-390WM2 | R36: SBP-300CM | S36: SBP-302CM /-12/-36 + SBP-302CMA/B/S Optional SBP-2CTW1 | T36: SBP-302-CMAS | U36: SBP-300LM | V36: SBP-300PM | W36: SBP-300B | X36: SBP-300NB | Y36: SBP-300KM | Z36: None | AA36: None | AB36: None | AC36: None | AD36: None | AE36: None | AF36: None | AG36: None | AH36: None | AI36: None | AJ36: None | AK36: None | AL36: None | AM36: None | AN36: Double | AO36: SBD-120GP | AP36: Single, Double, 4" Octagon | AQ36: None | AR36: =VLOOKUP(A:A,EOL!A:B,2,FALSE) -> <-Camera is EOL
A37: HCD-7070RA | B37: D4-0 | C37: SBD-120GP (sold separately) | D37: None | E37: SHD-3000F2 | F37: None | G37: None | H37: None | I37: None | J37: SPB-IND6 | K37: SBP-122HM | L37: None | M37: SBP-120WM | N37: SBP-300WM1 | O37: SBP-300WM | P37: SBP-390WM1 | Q37: SBP-390WM2 | R37: SBP-300CM | S37: SBP-302CM /-12/-36 + SBP-302CMA/B/S Optional SBP-2CTW1 | T37: SBP-302-CMAS | U37: SBP-300LM | V37: SBP-300PM | W37: SBP-300B | X37: SBP-300NB | Y37: SBP-300KM | Z37: None | AA37: None | AB37: None | AC37: None | AD37: None | AE37: None | AF37: None | AG37: None | AH37: None | AI37: None | AJ37: None | AK37: None | AL37: None | AM37: None | AN37: Double | AO37: SBD-120GP | AP37: Single, Double, 4" Octagon | AQ37: None | AR37: =VLOOKUP(A:A,EOL!A:B,2,FALSE) -> <-Camera is EOL
A38: HCF-8010V | B38: FV4 | AR38: =VLOOKUP(A:A,EOL!A:B,2,FALSE) -> <-Camera is EOL
A39: HCF-8011RV | B39: FV5 | C39: Included | AN39: - | AO39: Included | AP39: Single, Double, 4" Octagon | AQ39: None | AR39: =VLOOKUP(A:A,EOL!A:B,2,FALSE) -> #N/A
A40: HCO-6020R | B40: B05 | C40: None | D40: SBO-100B1 | E40: None | F40: None | G40: None | H40: None | I40: None | J40: None | K40: None | L40: None | M40: None | N40: None | O40: None | P40: None | Q40: None | R40: None | S40: None | T40: None | U40: None | V40: SBP-302PM | W40: None | X40: None | Y40: None | Z40: None | AA40: None | AB40: None | AC40: None | AD40: None | AE40: None | AF40: None | AG40: None | AH40: None | AI40: None | AJ40: None | AK40: None | AL40: None | AM40: None | AN40: - | AO40: - | AP40: - | AQ40: None | AR40: =VLOOKUP(A:A,EOL!A:B,2,FALSE) -> #N/A
...

Sheet Images
A1: Group/ Acc
A2: B01
A3: B02
A4: B03
A5: B05
A6: B11
A7: B13
A8: TNO-7180
A9: B14
A10: BackBox1
A11: BackBox2
A12: BO2
... A316: Blank

Sheet Maps
A1: Camera | B1: Group(1) | D1: =VLOOKUP('Mount Selection'!C3,Accessories!A1:B867,2,0) -> WN9-B | E1: =VLOOKUP(D1,B2:F1057,5,0) -> M0
A2: HCO-6070R | B2: B01 | D2: M0 | F2: M0 | K2: M1
A3: QNO-6082R | B3: B02 | D3: M0 | F3: M0
A4: XNO-6010R | B4: B03 | C4: XNP-6320HS | F4: M0 | K4: M0
A5: SNO-5084R | B5: B05 | F5: M0 | K5: M2
A6: XNO-L6080R | B6: B14 | F6: M0 | K6: M3
A7: PNO-9080R | B7: B11 | F7: M0 | K7: M4
A8: XNO-6080R | B8: B13 | F8: M0 | K8: M11
A9: SNB-5004 | B9: BO2 | F9: M0 | K9: M12
A10: SNB-6005 | B10: BO25 | F10: M0 | K10: M5
A11: HCB-6000 | B11: BO21 | F11: M0 | K11: M6
A12: SNB-8000 | B12: BO5 | F12: M0
A13: SNZ-6320 | B13: BZ1 | F13: M0
A14: XNB-6001 | B14: C01 | F14: M0
A15: SNB-6010B | B15: CO2 | F15: M0
A16: SND-5084 | B16: D3 | F16: M1
A17: SCD-5083B | B17: D4-0 | F17: M1
A18: SCD-5083B | B18: D4 | F18: M1
A19: LND-6071R | B19: D42-0 | F19: M1
A20: LND-6071R | B20: D42 | F20: M1
A21: QND-6082R | B21: D42W1 | F21: M2
A22: QND-8080R | B22: D42W-0 | F22: M2
A23: HCD-7010R | B23: D5-0 | F23: M1
... A92: XNV-6085 | B92: PH71 | F92: M1
B93: PH61 | F93: M1
A94: PNM-9000VQ | B94: M3 | F94: M1
A95: PNM-9002VQ | B95: M3-1 | F95: M2
B96: QQ2 | F96: M0
A97: XNP-6040H | B97: v52 | F97: M1
A98: XNP-6040HW | B98: V53 | F98: M6
B99: QT | F99: M1
B100: QT2 | F100: M2
A101: PNM-9320VQP | B101: P05 | F101: M0
A102: PNM-9322VQP | B102: P06 | F102: M4
A103: TNU-6320 | B103: T1 | F103: M0
A104: TNU-4041T | B104: T2 | F104: M0
A105: SMT-2701PVM | B105: PVMB | F105: M0
A106: SMT-2702PVM | B106: PVMW | F106: M0
A107: SMT-3234 | B107: SMT1 | F107: M0
A108: SMT-2721D | B108: PVM1 | F108: M0
...

Sheet EOL
A1: XNB-8003 | B1: <-Camera is EOL
A2: XNP-6040H | B2: <-Camera is EOL
A3: TNO-P9073EPT1-Z | B3: <-Camera is EOL
A4: TNU-6321 | B4: <-Camera is EOL
A5: PNB-A6001 | B5: <-Camera is EOL
A6: PNB-A9001 | B6: <-Camera is EOL
A7: TNU-6321 | B7: <-Camera is EOL
A8: PNB-A9091RLPH | B8: <-Camera is EOL
A9: XND-8081RV | B9: <-Camera is EOL
A10: XNB-9003 | B10: <-Camera is EOL
A11: XNB-8000 | B11: <-Camera is EOL
A12: HCD-7070RA | B12: <-Camera is EOL
... A52: SPB-INW13 | B52: <-Camera is EOL
A53: ='[2]EOL Product'!$C6 -> SPU-60240 | B53: <-Camera is EOL
A54: ='[2]EOL Product'!$C7 -> XRN-3210RB2 | B54: <-Camera is EOL
A55: ='[2]EOL Product'!$C8 -> XRN-3210RB2-8TB | B55: <-Camera is EOL
A56: ='[2]EOL Product'!$C9 -> XRN-3210RB2-16TB | B56: <-Camera is EOL
A57: ='[2]EOL Product'!$C10 -> XRN-3210RB2-24TB | B57: <-Camera is EOL
A58: ='[2]EOL Product'!$C11 -> XRN-3210RB2-32TB | B58: <-Camera is EOL
A59: ='[2]EOL Product'!$C12 -> XRN-3210RB2-48TB | B59: <-Camera is EOL
A60: ='[2]EOL Product'!$C13 -> XRN-3210RB2-64TB | B60: <-Camera is EOL
A61: ='[2]EOL Product'!$C14 -> XRN-3210B2 | B61: <-Camera is EOL
A62: ='[2]EOL Product'!$C15 -> XRN-3210B2-12TB | B62: <-Camera is EOL
A63: ='[2]EOL Product'!$C16 -> XRN-3210B2-16TB | B63: <-Camera is EOL
A64: ='[2]EOL Product'!$C17 -> XRN-3210B2-24TB | B64: <-Camera is EOL
... A2082: ='[2]EOL Product'!$C2035 -> 0 | B2082: <-Camera is EOL
